BEGIN:VCALENDAR
VERSION:2.0
PRODID:-//ChamberMaster//Event Calendar 2.0//EN
METHOD:PUBLISH
X-PUBLISHED-TTL:P3D
REFRESH-INTERVAL:P3D
CALSCALE:GREGORIAN
BEGIN:VEVENT
DTSTART:20280924T223000Z
DTEND:20280925T003000Z
X-MICROSOFT-CDO-ALLDAYEVENT:FALSE
SUMMARY:2nd Annual Red Shield at Drive Shack
DESCRIPTION:Join us for The Salvation Army's Second Annual Red Shield at Drive Shack. Since 2009 The Salvation Army has been offering housing and program services to unsheltered veterans here in Palm Beach County. Come\, have fun and support those who have sacrificed so much for us and now need our help.
X-ALT-DESC;FMTTYPE=text/html:<span style="font-size:12px"><span style="color:black"><span style="font-family:arial\,sans-serif">Join us for The Salvation Army&#39\;s Second Annual Red Shield at Drive Shack. Since 2009 The Salvation Army has been offering housing and program services to unsheltered veterans here in Palm Beach County. Come\, have fun and support those who have sacrificed so much for us and now need our help.&nbsp\;</span></span></span><br />\n&nbsp\;
LOCATION:Drive Shack 1710 Belvedere Road West Palm Beach\, FL 33406
UID:e.1455.41529
SEQUENCE:3
DTSTAMP:20260423T032721Z
URL:http://business.palmbeaches.org/events/details/2nd-annual-red-shield-at-drive-shack-09-24-2028-41529
END:VEVENT

END:VCALENDAR
