BEGIN:VCALENDAR
VERSION:2.0
PRODID:-//ChamberMaster//Event Calendar 2.0//EN
METHOD:PUBLISH
X-PUBLISHED-TTL:P3D
REFRESH-INTERVAL:P3D
CALSCALE:GREGORIAN
BEGIN:VEVENT
DTSTART:20230928T150000Z
DTEND:20230928T173000Z
X-MICROSOFT-CDO-ALLDAYEVENT:FALSE
SUMMARY:32nd Annual ATHENA Leadership Awards Luncheon - 2023
DESCRIPTION:ATHENA Leadership Awards 32nd Anniversary Program!\n\n\n\nThe ATHENA Leadership Award® was inspired by the goddess of Greek mythology known for her strength\, courage\, wisdom and enlightenment - qualities embodied in the ATHENA Leadership Model®. The Award is unique in both scope---local\, national and international---and the ATHENA mission upon which it is based. The ATHENA Leadership Award® is presented to a woman ---or man--- who is honored for professional excellence\, community service and for actively assisting women in their attainment of professional excellence and leadership skills.\n\n\n\nThe ATHENA Leadership Award® \n\n\n\nATHENA Leadership Award® Recipients are individuals who:\n\n\n	Have achieved the highest level of professional excellence.\n	Contribute time and energy to improve the quality of life for others in the community.\n	Actively assist others\, particularly women\, in realizing their full leadership potential.\n\nThe ATHENA Young Professional Leadership Award\, this award was established to honor emerging leaders under the age of 40. \n\n\n\nATHENA Young Professional Leadership Award® Recipients are emerging leaders who: \n\n\n	Demonstrates excellence\, creativity\, and initiative in their \n\n	business or profession.\n	Provides valuable service by contributing time and energy to improve the quality of life for others in the community.\n	Clearly serves as a role model for young women personally and professionally \n\n\n\nThe ATHENA Organizational Leadership Award\, this award was established to honor organizations and businesses.\n\n\n\nATHENA Organizational Leadership Award® Recipients are businesses or organizations that: \n\n\n	Creates an organizational culture that encourages women employees to achieve their full leadership potential\n	Gives back to the larger community of women and girls by providing and/ or supporting leadership development opportunities and initiative\n\n\n \n\n\n\n\nSponsorships Available: \n\n\n\nEmerald: $1\,200 \n\n\n	Logo on all pre/post marketing materials \n	Logo on all pre/post Social Media posts \n	One (1) ticket to ATHENA Reception\, date TBD. \n	Half table (5) to the ATHENA Luncheon with preferred seating\n	Opportunity to provide collateral for each table \n	Logo predominately displayed at Luncheon \n	Logo in scrolling PP presentation before/after ceremony. \n	Company thanked from podium \n\n \n\nRuby: $2\,000 \n\n\n	Logo on all pre/post marketing materials \n	Logo on all pre/post Social Media posts \n	Two (2) ticket to ATHENA Reception\, date TBD. \n	Half table (5) to the ATHENA Luncheon with preferred seating\n	Opportunity to provide collateral for each table \n	Opportunity to provide pull up Banners for lobby. \n	Logo predominately displayed at Luncheon \n	Logo in scrolling PP presentation before/after ceremony. \n	Company thanked from podium \n\n \n\n\n\nPearl: $4\,000 \n\n\n	Logo on all pre/post marketing materials \n	Logo on all pre/post Social Media posts \n	4 (4) ticket to ATHENA Reception\, date TBD. \n	Full table (10) to the ATHENA Luncheon with preferred seating\n	Opportunity to provide collateral for each table \n	Opportunity to provide GOBO -or- pull up Banners for lobby. \n	Opportunity to have marketing table in lobby. \n	Logo predominately displayed at Luncheon \n	Logo in scrolling PP presentation before/after ceremony. \n	Company thanked from podium
X-ALT-DESC;FMTTYPE=text/html:<p align="justify" class="text" style="font-family: Arial\;"><span style="font-family:verdana\;"><span style="font-size:14px\;">ATHENA Leadership Awards 32nd Anniversary Program!<br>\n<br>\nThe ATHENA Leadership Award® was inspired by the goddess of Greek mythology known for her strength\, courage\, wisdom and enlightenment - qualities embodied in the ATHENA Leadership Model®. The Award is unique in both scope---local\, national and international---and the ATHENA mission upon which it is based. The ATHENA Leadership Award® is presented to a woman ---or man--- who is honored for professional excellence\, community service and for actively assisting women in their attainment of professional excellence and leadership skills.<br>\n<br>\n<u><strong>The ATHENA Leadership Award®&nbsp\;</strong></u><br>\n<br>\nATHENA Leadership Award® Recipients are individuals who:</span></span></p>\n\n<ul>\n	<li style="line-height:normal\;"><span style="font-family:verdana\;"><span style="font-size:14px\;">Have achieved the highest level of professional excellence.</span></span></li>\n	<li style="line-height:normal\;"><span style="font-family:verdana\;"><span style="font-size:14px\;">Contribute time and energy to improve the quality of life for others in the community.</span></span></li>\n	<li style="line-height:normal\;"><span style="font-family:verdana\;"><span style="font-size:14px\;">Actively assist others\, particularly women\, in realizing their full leadership potential.</span></span></li>\n</ul>\n<span style="font-family:verdana\;"><span style="font-size:14px\;"><u><strong>The&nbsp\;ATHENA Young Professional Leadership Award</strong></u>\, this award was established to honor emerging leaders under the age of 40.&nbsp\;<br>\n<br>\nATHENA Young Professional Leadership Award® Recipients are emerging leaders who:&nbsp\;</span></span>\n\n<ul>\n	<li style="line-height:normal\;"><span style="font-family:verdana\;"><span style="font-size:14px\;">Demonstrates excellence\, creativity\, and initiative in their&nbsp\;<br>\n	business or profession.</span></span></li>\n	<li style="line-height:normal\;"><span style="font-family:verdana\;"><span style="font-size:14px\;">Provides valuable service by contributing time and energy to improve the quality of life for others in the community.</span></span></li>\n	<li style="line-height:normal\;"><span style="font-family:verdana\;"><span style="font-size:14px\;">Clearly serves as a role model for young women personally and professionally </span></span></li>\n</ul>\n<br>\n<span style="font-family:verdana\;"><span style="font-size:14px\;"><strong><u>The&nbsp\;ATHENA Organizational Leadership Award</u></strong>\, this award was established to honor organizations and businesses.</span><br>\n<br>\n<span style="font-size: 14px\;">ATHENA Organizational Leadership Award® Recipients are</span><span style="font-size:14px\;">&nbsp\;businesses or organizations that:&nbsp\;</span></span>\n\n<ul>\n	<li style="line-height:normal\;"><span style="font-family:verdana\;"><span style="font-size:14px\;">Creates an organizational culture that encourages women employees to achieve their full leadership potential</span></span></li>\n	<li style="line-height:normal\;"><span style="font-family:verdana\;"><span style="font-size:14px\;">Gives back to the larger community of women and girls by providing and/ or supporting leadership development opportunities and initiative</span></span></li>\n</ul>\n\n<div style="line-height:normal\;">&nbsp\;</div>\n\n<div style="line-height:normal\;">\n<div style="text-align: justify\;"><br>\n<span style="font-family:arial\;"><span style="font-size:18px\;">Sponsorships Available:&nbsp\;</span><br style="text-align: justify\;">\n<br>\n<u>Emerald: $1\,200 </u></span>\n\n<ul>\n	<li><span style="font-family:arial\;">Logo on all pre/post marketing materials </span></li>\n	<li><span style="font-family:arial\;">Logo on all pre/post Social Media posts </span></li>\n	<li><span style="font-family:arial\;">One (1) ticket to ATHENA Reception\, date TBD. </span></li>\n	<li><span style="font-family:arial\;">Half table (5) to the ATHENA Luncheon with preferred seating</span></li>\n	<li><span style="font-family:arial\;">Opportunity to provide collateral for each table </span></li>\n	<li><span style="font-family:arial\;">Logo predominately displayed at Luncheon </span></li>\n	<li><span style="font-family:arial\;">Logo in scrolling PP presentation before/after ceremony. </span></li>\n	<li><span style="font-family:arial\;">Company thanked from podium </span></li>\n</ul>\n<span style="font-family:arial\;">&nbsp\;<br>\n<u>Ruby: $2\,000 </u></span>\n\n<ul>\n	<li><span style="font-family:arial\;">Logo on all pre/post marketing materials </span></li>\n	<li><span style="font-family:arial\;">Logo on all pre/post Social Media posts </span></li>\n	<li><span style="font-family:arial\;">Two (2) ticket to ATHENA Reception\, date TBD. </span></li>\n	<li><span style="font-family:arial\;">Half table (5) to the ATHENA Luncheon with preferred seating</span></li>\n	<li><span style="font-family:arial\;">Opportunity to provide collateral for each table </span></li>\n	<li><span style="font-family:arial\;">Opportunity to provide pull up Banners for lobby. </span></li>\n	<li><span style="font-family:arial\;">Logo predominately displayed at Luncheon </span></li>\n	<li><span style="font-family:arial\;">Logo in scrolling PP presentation before/after ceremony. </span></li>\n	<li><span style="font-family:arial\;">Company thanked from podium </span></li>\n</ul>\n<span style="font-family:arial\;">&nbsp\;</span><br>\n<br>\n<span style="font-family:arial\;"><u>Pearl: $4\,000 </u></span>\n\n<ul>\n	<li><span style="font-family:arial\;">Logo on all pre/post marketing materials </span></li>\n	<li><span style="font-family:arial\;">Logo on all pre/post Social Media posts </span></li>\n	<li><span style="font-family:arial\;">4 (4) ticket to ATHENA Reception\, date TBD. </span></li>\n	<li><span style="font-family:arial\;">Full table (10) to the ATHENA Luncheon with preferred seating</span></li>\n	<li><span style="font-family:arial\;">Opportunity to provide collateral for each table </span></li>\n	<li><span style="font-family:arial\;">Opportunity to provide GOBO -or- pull up Banners for lobby. </span></li>\n	<li><span style="font-family:arial\;">Opportunity to have marketing table in lobby. </span></li>\n	<li><span style="font-family:arial\;">Logo predominately displayed at Luncheon </span></li>\n	<li><span style="font-family:arial\;">Logo in scrolling PP presentation before/after ceremony. </span></li>\n	<li><span style="font-family:arial\;">Company thanked from podium </span></li>\n</ul>\n</div>\n</div>\n
LOCATION:Palm Beach County Convention Center 650 Okeechobee Blvd. West Palm Beach\, Florida 33401
UID:e.1455.36033
SEQUENCE:3
DTSTAMP:20260423T003425Z
URL:http://business.palmbeaches.org/events/details/32nd-annual-athena-leadership-awards-luncheon-2023-36033
END:VEVENT

END:VCALENDAR
