BEGIN:VCALENDAR
VERSION:2.0
PRODID:-//ChamberMaster//Event Calendar 2.0//EN
METHOD:PUBLISH
X-PUBLISHED-TTL:P3D
REFRESH-INTERVAL:P3D
CALSCALE:GREGORIAN
BEGIN:VEVENT
DTSTART:20240627T130000Z
DTEND:20240627T140000Z
X-MICROSOFT-CDO-ALLDAYEVENT:FALSE
SUMMARY:Coffee & Chat w/ Taylor Materio\, Chief Development Office of the Historical Society of PBC
DESCRIPTION:Learn all about Taylor Materio and her career path to becoming Chief Development Officer of the Historical Society of Palm Beach County.\n\nPresented by the Women in Business Committee\n\n\n\n\n\nAbout Taylor:\n\nBorn and raised in West Palm Beach\, Taylor has a 15-year career in non-profit development and management. She is passionate about serving her hometown community on both a professional and personal basis. After graduating from the University of Florida\, Taylor began her career in Washington\, DC where she advocated for affordable housing rights and was integral in the passage of the National Affordable Housing Trust Fund. In 2010\, she returned to her hometown and joined her family's growing business\, McMow Art Glass.\n\nIn 2018\, Taylor became the Executive Director for Family Promise North/Central Palm Beach County\, a local nonprofit serving families experiencing homelessness\, where she helped hundreds of families gain back their self-sufficiency. Today\, she serves as the Chief Development Officer for the Historical Society of Palm Beach County where she helps sustain its mission to preserve and share our history for future generations.
X-ALT-DESC;FMTTYPE=text/html:<p><strong><span style="font-size:20px\;"><span style="font-family:verdana\;">Learn all about Taylor Materio and her career path to becoming Chief Development Officer of the Historical Society of Palm Beach County.</span></span></strong><br />\n<strong><em><span style="font-size:16px\;"><span style="font-family:verdana\;">Presented by the Women in Business Committee</span></span></em></strong><br />\n<br />\n<br />\n<span style="font-family:verdana\;"><strong><u>About Taylor:</u></strong></span></p>\n\n<p style="line-height:24.0pt"><span style="font-size:14px\;"><span style="color:black\;">Born and raised in West Palm Beach\, Taylor has a 15-year career in&nbsp\;non-profit development and management. </span><span style="color:#222222\;">She is passionate about serving her hometown community on both a professional and personal basis. After graduating from the University of Florida\, Taylor began her career in Washington\, DC where she advocated for affordable housing rights and was integral in the passage of the National Affordable Housing Trust Fund. In 2010\, she returned to her hometown and joined her family&#39\;s growing business\, McMow Art Glass.</span></span><br />\n<span style="color:black\;"><span style="font-size:12.0pt\;"><span style="font-size:14px\;">In 2018\, Taylor became the Executive Director for Family Promise North/Central Palm Beach County\, a local nonprofit serving families experiencing homelessness\, where she helped hundreds of families gain back their self-sufficiency. Today\, she serves as the Chief Development Officer for the Historical Society of Palm Beach County where she helps sustain its mission to preserve and share our history for future generations.</span> </span></span><br />\n<br />\n<span style="font-size:12.0pt\;font-family:&quot\;Arial&quot\;\,sans-serif\;\ncolor:#050304"><o:p></o:p></span></p>\n
LOCATION:Chamber of Commerce Boardroom: 401 N. Flagler Drive West Palm Beach\, FL.\, 33401 Parking: Chamber is fortunate enough to have a personal parking lot in the back of their building! Please use the entrance on 4th street.
UID:e.1455.36518
SEQUENCE:3
DTSTAMP:20260424T203229Z
URL:http://business.palmbeaches.org/events/details/coffee-chat-w-taylor-materio-chief-development-office-of-the-historical-society-of-pbc-36518
END:VEVENT

END:VCALENDAR
