BEGIN:VCALENDAR
VERSION:2.0
PRODID:-//ChamberMaster//Event Calendar 2.0//EN
METHOD:PUBLISH
X-PUBLISHED-TTL:P3D
REFRESH-INTERVAL:P3D
CALSCALE:GREGORIAN
BEGIN:VEVENT
DTSTART:20240221T170000Z
DTEND:20240221T180000Z
X-MICROSOFT-CDO-ALLDAYEVENT:FALSE
SUMMARY:Data Security & Loss Prevention - Seminar
DESCRIPTION:Data Security & Loss Prevention \n\nPresented by: Rob Wilkins\, Jones Foster. \n\n\n\nTalking points:\n\n \n\n	What is a WISP and why do you need one?\n	Incident Response Plans: Avoiding civil liability and losing clients\n	Cybersecurity Insurance: Don't lose coverage by overstating your security or failing to monitor upgrades\n	Reliance on outside IT vendors: Read the contract\n	FTC enforcement actions and consequences for data breaches\n\n\n\n\n\nAbout Rob Wilkins: \n\nRobert W. Wilkins is Jones Foster's Complex Litigation & Dispute Resolution Practice Group Leader and a Florida Bar double Board Certified attorney in the areas of Business Litigation and Civil Trial.\n\nWith over 35 years of experience as a trial lawyer\, Rob represents clients in complex business litigation matters. Rob has substantial experience in defending and prosecuting all types of business litigation issues\, including construction litigation\, shareholder and partnership disputes\, employment and non-compete matters\, civil RICO\, securities\, intellectual property\, and commercial real estate landlord/tenant matters.\n\nRob also has a deep understanding of technology-related legal issues\, including eDiscovery\, cybersecurity\, and data privacy. He advises businesses and law firms on data breach regulations and reporting requirements\, comprehensive incident response plans\, HIPAA and HITECH privacy compliance\, and other state and federal data privacy rules and regulations\, including consumer protection rules such as the California Consumer Protection Act (CCPA)\, and represents clients in litigation matters that may result from a data breach or other security incident.\n\nRob is consistently recognized by peer and industry publications\, including The Best Lawyers in America and Florida Super Lawyers\, and holds an AV Preeminent Rating from Martindale-Hubbell\, awarded to only those lawyers with the highest ethical standards and legal ability.
X-ALT-DESC;FMTTYPE=text/html:<strong><span style="font-size:22px\;"><span style="font-family:verdana\;">Data Security &amp\; Loss Prevention&nbsp\;</span></span></strong><br />\n<font face="verdana"><span style="font-size: 16px\;"><i>Presented by: Rob Wilkins\, Jones Foster.&nbsp\;</i></span></font><br />\n<br />\n<span style="font-size:16px\;"><span style="font-family:verdana\;"><strong>Talking points:</strong><br />\n&nbsp\;</span></span>\n<ul>\n	<li style="margin-left:0in\;"><span style="font-size:16px\;"><span style="font-family:verdana\;">What is a WISP and why do you need one?</span></span></li>\n	<li style="margin-left:0in\;"><span style="font-size:16px\;"><span style="font-family:verdana\;">Incident Response Plans: Avoiding civil liability and losing clients</span></span></li>\n	<li style="margin-left:0in\;"><span style="font-size:16px\;"><span style="font-family:verdana\;">Cybersecurity Insurance: Don&rsquo\;t lose coverage by overstating your security or failing to monitor upgrades</span></span></li>\n	<li style="margin-left:0in\;"><span style="font-size:16px\;"><span style="font-family:verdana\;">Reliance on outside IT vendors: Read the contract</span></span></li>\n	<li style="margin-bottom:12.0pt\;margin-left:0in\;"><span style="font-size:16px\;"><span style="font-family:verdana\;">FTC enforcement actions and consequences for data breaches</span></span></li>\n</ul>\n<br />\n<br />\n<span style="font-size:12px\;"><span style="font-family:verdana\;">About Rob Wilkins:&nbsp\;<br />\nRobert W. Wilkins is Jones Foster&#39\;s&nbsp\;<a href="https://jonesfoster.com/our-practice/litigation-dispute-resolution" target="_blank"><span style="text-decoration:none\;text-underline:none\;"><span style="color:windowtext\;">Complex Litigation &amp\; Dispute Resolution</span></span></a>&nbsp\;Practice Group Leader and a Florida Bar double Board Certified attorney in the areas of Business Litigation and Civil Trial.<br />\nWith over 35 years of experience as a trial lawyer\, Rob represents clients in complex business litigation matters. Rob has substantial experience in defending and prosecuting all types of business litigation issues\, including construction litigation\, shareholder and partnership disputes\, employment and non-compete matters\, civil RICO\, securities\, intellectual property\, and commercial real estate landlord/tenant matters.<br />\nRob also has a deep understanding of technology-related legal issues\, including eDiscovery\, cybersecurity\, and data privacy. He advises businesses and law firms on data breach regulations and reporting requirements\, comprehensive incident response plans\, HIPAA and HITECH privacy compliance\, and other state and federal data privacy rules and regulations\, including consumer protection rules such as the California Consumer Protection Act (CCPA)\, and represents clients in litigation matters that may result from a data breach or other security incident.<br />\nRob is consistently recognized by peer and industry publications\, including<em>&#8239\;The Best Lawyers in America</em>&#8239\;and&#8239\;<em>Florida Super Lawyers</em>\,&nbsp\;and holds an AV Preeminent Rating from&#8239\;<em>Martindale-Hubbell</em>\,&nbsp\;awarded to only those lawyers with the highest ethical standards and legal ability.</span></span><br />\n&nbsp\;
LOCATION:Jones Foster Offices: 505 S. Flagler Drive. West Palm Beach\, FL.\, 33401
UID:e.1455.36387
SEQUENCE:3
DTSTAMP:20260420T115037Z
URL:http://business.palmbeaches.org/events/details/data-security-loss-prevention-seminar-36387
END:VEVENT

END:VCALENDAR
