BEGIN:VCALENDAR
VERSION:2.0
PRODID:-//ChamberMaster//Event Calendar 2.0//EN
METHOD:PUBLISH
X-PUBLISHED-TTL:P3D
REFRESH-INTERVAL:P3D
CALSCALE:GREGORIAN
BEGIN:VEVENT
DTSTART;VALUE=DATE:20230410
DTEND;VALUE=DATE:20230528
TRANSP:TRANSPARENT
X-MICROSOFT-CDO-ALLDAYEVENT:TRUE
SUMMARY:Inaugural Meal Build Food Drive
DESCRIPTION:Join Our First Annual \n\nMEAL BUILD FOOD DRIVE\n\n\n\nGet your creative juices flowing! Put on your construction hat to build meals for our 158\,000 neighbors in need.\n\nUse the food collected during your food drive to create an eye-catching structure to be on display at your location from May 13th through May 27th.\n\nThe Palm Beach County Food Bank will collect all donations the following week.\n\n\n\nTogether\, we nourish
X-ALT-DESC;FMTTYPE=text/html:<strong>Join Our First Annual&nbsp\;<br />\nMEAL BUILD FOOD DRIVE<br />\n<br />\nGet your creative juices flowing! Put on your construction hat to build meals for our 158\,000 neighbors in need.<br />\nUse the food collected during your food drive to create an eye-catching structure to be on display at your location from May 13th through May 27th.<br />\nThe Palm Beach County Food Bank will collect all donations the following week.<br />\n<br />\nTogether\, we nourish&nbsp\;</strong>
LOCATION:Palm Beach County location of your choice (business - e.g. bank\, auto dealership\, hospital\, etc.)
UID:e.1455.35964
SEQUENCE:3
DTSTAMP:20260423T024805Z
URL:http://business.palmbeaches.org/events/details/inaugural-meal-build-food-drive-35964
END:VEVENT

END:VCALENDAR
