BEGIN:VCALENDAR
VERSION:2.0
PRODID:-//ChamberMaster//Event Calendar 2.0//EN
METHOD:PUBLISH
X-PUBLISHED-TTL:P3D
REFRESH-INTERVAL:P3D
CALSCALE:GREGORIAN
BEGIN:VEVENT
DTSTART:20230325T140000Z
DTEND:20230325T200000Z
X-MICROSOFT-CDO-ALLDAYEVENT:FALSE
SUMMARY:Keiser University Flagship - Auto Show of the Palm Beaches and Chili Cook Off
DESCRIPTION:Looking for something to do with the family? Do you like cars? Do you like chili?  Come out and join us for the Keiser University Auto Show of the Palm Beaches and Keiser University Chili Cook Off!  The event will feature the latest vehicle makes and models along with mouthwatering chili recipes. Bring your family and your friends and join us for some fun on Saturday\, March 25th 10am-4pm on the Keiser University Flagship campus located at 2600 N. Military Trail\, West Palm Beach\, Florida 33409.\n\nThere will be many interactive games and special surprises. And of course\, the awesome cars and the chili. Do you think you have the best chili recipe?  The winning Chili Cook Off Team will receive $300 cash!!  We have non-chili vendor opportunities too!  Chili Tasting will begin at 12pm!  Proceeds will be going to the Aquatic Center. We look forward to seeing you at the event!
X-ALT-DESC;FMTTYPE=text/html:<p>Looking for something to do with the family? Do you like cars? Do you like chili?&nbsp\; Come out and join us for the Keiser University Auto Show of the Palm Beaches and Keiser University Chili Cook Off!&nbsp\; The event will feature the latest vehicle makes and models along with mouthwatering chili recipes. Bring your family and your friends and join us for some fun on Saturday\, March 25<span style="font-family:inherit\; font-size:11.25px">th</span>&nbsp\;10am-4pm on the Keiser University Flagship campus located at 2600 N. Military Trail\, West Palm Beach\, Florida 33409.</p>\n\n<p>There will be many interactive games and special surprises. And of course\, the awesome cars and the chili. Do you think you have the best chili recipe?&nbsp\; The winning Chili Cook Off Team will receive $300 cash!!&nbsp\; We have non-chili vendor opportunities too!&nbsp\; Chili Tasting will begin at 12pm!&nbsp\; Proceeds will be going to the Aquatic Center. We look forward to seeing you at the event!</p>\n
LOCATION:Keiser University Flagship 2600 North Military Trail West Palm Beach\, FL 33409
UID:e.1455.35789
SEQUENCE:3
DTSTAMP:20260420T075505Z
URL:http://business.palmbeaches.org/events/details/keiser-university-flagship-auto-show-of-the-palm-beaches-and-chili-cook-off-35789
END:VEVENT

END:VCALENDAR
