BEGIN:VCALENDAR
VERSION:2.0
PRODID:-//ChamberMaster//Event Calendar 2.0//EN
METHOD:PUBLISH
X-PUBLISHED-TTL:P3D
REFRESH-INTERVAL:P3D
CALSCALE:GREGORIAN
BEGIN:VEVENT
DTSTART:20200721T123000Z
DTEND:20200721T133000Z
X-MICROSOFT-CDO-ALLDAYEVENT:FALSE
SUMMARY:Science & Technology Presentation
DESCRIPTION:South Florida Science Center & Aquarium- Stem Education Center\n\n(Safety Protocol Enforced. Masks and Social Distancing REQUIRED)\n\nSanitation stands will be provided\n\n\n\nTopics: Guest Services \n\n	Admissions\n	Private Rentals/Events\n	Birthday Parties\n	Volunteers\n\n Education\n\n\n	Outreach Programs\n	In-House Program/Demonstrations\n	 Individual Programs\n	STEM Inventors Challenge \n	3D Printing/Coding Workshops\n	Hack Shack Tech Club\n	Camp Programming \n\n Kristian has been with the Science Center for over a decade\, holding positions such as Science Educator and Camp Manager. Currently he is the Director of Visitor Services\, overseeing all of the guest admissions\, interactions\, and services.\n\n\n\nAdam Newton is another decade-long employee of the Science Center and currently works in the Education Department as our STEM Coordinator. His focus is bringing STEM programs and curriculum to schools all throughout South Florida while promoting our mission: Open Every Mind to Science. \n\n\n\nScience and Technology Committee\n\nThe Science and Technology Committee meets on the first Thursday of the month at 8:30a.m. or 12:00p.m. at varying locations. Visit the Science and Technology webpage for more information about the group here.\n\n\n\nFor more information on Sponsorship and hosting opportunities to the Science and Technology Committee\, contact membership Services at (561) 833-3894.
X-ALT-DESC;FMTTYPE=text/html:<span style="font-size:16px\;"><span style="font-family:arial\;"><strong style="font-family: Arial\, sans-serif\; font-size: 14px\;">South Florida Science Center &amp\; Aquarium- Stem Education Center</strong><br style="font-family: Arial\, sans-serif\; font-size: 14px\;" />\n<em style="font-family: Arial\, sans-serif\; font-size: 14px\;">(Safety Protocol Enforced. Masks and Social Distancing REQUIRED)<br />\nSanitation stands will be provided</em><br />\n<br />\n<strong>Topics:</strong> Guest Services&nbsp\;</span></span>\n<ul>\n	<li><span style="font-size:16px\;"><span style="font-family:arial\;">Admissions</span></span></li>\n	<li><span style="font-size:16px\;"><span style="font-family:arial\;">Private Rentals/Events</span></span></li>\n	<li><span style="font-size:16px\;"><span style="font-family:arial\;">Birthday Parties</span></span></li>\n	<li><span style="font-size:16px\;"><span style="font-family:arial\;">Volunteers</span></span></li>\n</ul>\n<span style="font-size:16px\;"><span style="font-family:arial\;"> Education</span></span>\n\n<ul>\n	<li><span style="font-size:16px\;"><span style="font-family:arial\;">Outreach Programs</span></span></li>\n	<li><span style="font-size:16px\;"><span style="font-family:arial\;">In-House Program/Demonstrations</span></span></li>\n	<li><span style="font-size:16px\;"><span style="font-family:arial\;">&nbsp\;Individual Programs</span></span></li>\n	<li><span style="font-size:16px\;"><span style="font-family:arial\;">STEM Inventors Challenge&nbsp\;</span></span></li>\n	<li><span style="font-size:16px\;"><span style="font-family:arial\;">3D Printing/Coding Workshops</span></span></li>\n	<li><span style="font-size:16px\;"><span style="font-family:arial\;">Hack Shack Tech Club</span></span></li>\n	<li><span style="font-size:16px\;"><span style="font-family:arial\;">Camp Programming&nbsp\;</span></span></li>\n</ul>\n<span style="font-size:16px\;"><span style="font-family:arial\;"> Kristian has been with the Science Center for over a decade\, holding positions such as Science Educator and Camp Manager. Currently he is the Director of Visitor Services\, overseeing all of the guest admissions\, interactions\, and services.<br />\n<br />\nAdam Newton is another decade-long employee of the Science Center and currently works in the Education Department as our STEM Coordinator. His focus is bringing STEM programs and curriculum to schools all throughout South Florida while promoting our mission: Open Every Mind to Science.&nbsp\;<br />\n<br />\n<span style="line-height: 107%\; border: 1pt none windowtext\; padding: 0in\; background-image: initial\; background-position: initial\; background-size: initial\; background-repeat: initial\; background-attachment: initial\; background-origin: initial\; background-clip: initial\;"><strong>Science and Technology Committee</strong></span><br />\n<span style="line-height: 107%\;"><span style="border: 1pt none windowtext\; padding: 0in\; background-image: initial\; background-position: initial\; background-size: initial\; background-repeat: initial\; background-attachment: initial\; background-origin: initial\; background-clip: initial\;">The Science and Technology Committee meets on the first Thursday of the month at 8:30a.m. or 12:00p.m. at varying locations. Visit the Science and Technology webpage for more information about the group&nbsp\;<a href="http://www.palmbeaches.org/pages/science--technology?_ga=2.35996768.1744435228.1543846075-756339027.1522670404"><span style="color:#0A7ACA">here</span></a>.<br />\n<br />\nFor more information on Sponsorship and hosting opportunities to the Science and Technology Committee\, contact membership Services at (561) 833-3894.</span></span></span></span>
LOCATION:South Florida Science Center and Aquarium-Stem Education Center 4801 Dreher Trail North West Palm Beach\, FL 33405
UID:e.1455.32778
SEQUENCE:3
DTSTAMP:20260426T044103Z
URL:http://business.palmbeaches.org/events/details/science-technology-presentation-32778
END:VEVENT

END:VCALENDAR
