BEGIN:VCALENDAR
VERSION:2.0
PRODID:-//ChamberMaster//Event Calendar 2.0//EN
METHOD:PUBLISH
X-PUBLISHED-TTL:P3D
REFRESH-INTERVAL:P3D
CALSCALE:GREGORIAN
BEGIN:VEVENT
DTSTART:20200716T130000Z
DTEND:20200716T140000Z
X-MICROSOFT-CDO-ALLDAYEVENT:FALSE
SUMMARY:VIRTUAL Business Builder
DESCRIPTION:Learn how the Chamber will help you:\n\n	Increase your professional contact base\n	Find new clients\n	Build your business\n\nReceive a follow up email with a calendar of events\, links to the Chamber's directories\, committee information and more!
X-ALT-DESC;FMTTYPE=text/html:<strong style="color: rgb(51\, 51\, 51)\; font-family: sans-serif\, Arial\, Verdana\, &quot\;Trebuchet MS&quot\;\; font-size: 13px\;"><span style="color: rgb(102\, 102\, 102)\;"><span style="font-family: arial\, sans-serif\;"><span style="font-size: 12pt\;">Learn&nbsp\;how the Chamber&nbsp\;</span></span></span></strong><strong style="color: rgb(51\, 51\, 51)\; font-family: sans-serif\, Arial\, Verdana\, &quot\;Trebuchet MS&quot\;\; font-size: 13px\;"><span style="font-family: arial\, sans-serif\;"><span style="font-size: 12pt\;">will help you:</span></span></strong>\n<ul style="padding: 0px 40px\; color: rgb(51\, 51\, 51)\; font-family: sans-serif\, Arial\, Verdana\, &quot\;Trebuchet MS&quot\;\; font-size: 13px\;">\n	<li style="margin-left: 0in\;"><span style="font-family: arial\, sans-serif\;"><span style="font-size: 10.5pt\;">Increase your professional contact base</span></span></li>\n	<li style="margin-left: 0in\;"><span style="font-family: arial\, sans-serif\;"><span style="font-size: 10.5pt\;">Find new clients</span></span></li>\n	<li style="margin-left: 0in\;"><span style="font-family: arial\, sans-serif\;"><span style="font-size: 10.5pt\;">B<span style="color: rgb(102\, 102\, 102)\;">ui</span>ld your business</span></span></li>\n</ul>\n<strong style="color: rgb(51\, 51\, 51)\; font-family: sans-serif\, Arial\, Verdana\, &quot\;Trebuchet MS&quot\;\; font-size: 13px\;"><span style="color: rgb(102\, 102\, 102)\;"><span style="font-family: arial\, sans-serif\;"><span style="font-size: 10.5pt\;">Receive</span></span></span></strong><span style="font-family: sans-serif\, Arial\, Verdana\, &quot\;Trebuchet MS&quot\;\; font-size: 13px\; color: rgb(102\, 102\, 102)\;"><span style="font-family: arial\, sans-serif\;"><span style="font-size: 10.5pt\;">&nbsp\;a</span></span></span><span style="color: rgb(51\, 51\, 51)\; font-size: 13px\; font-family: arial\, sans-serif\;"><span style="font-size: 10.5pt\;">&nbsp\;follow up email with&nbsp\;<span style="color: rgb(102\, 102\, 102)\;">a calendar of events\,&nbsp\;</span>links to<span style="color: rgb(102\, 102\, 102)\;">&nbsp\;the Chamber&#39\;s directories\, committee information and more!</span></span></span>
LOCATION:VIRTUAL Meeting/Webinar (All registered guests will receive login information for meeting).
UID:e.1455.32981
SEQUENCE:3
DTSTAMP:20260426T043405Z
URL:http://business.palmbeaches.org/events/details/virtual-business-builder-32981
END:VEVENT

END:VCALENDAR
