BEGIN:VCALENDAR
VERSION:2.0
PRODID:-//ChamberMaster//Event Calendar 2.0//EN
METHOD:PUBLISH
X-PUBLISHED-TTL:P3D
REFRESH-INTERVAL:P3D
CALSCALE:GREGORIAN
BEGIN:VEVENT
DTSTART:20220126T170000Z
DTEND:20220126T173000Z
X-MICROSOFT-CDO-ALLDAYEVENT:FALSE
SUMMARY:10 Sweet Tips to Optimize Your LinkedIn Profile
DESCRIPTION:Wednesday\, January 26th at noon Eastern\n\n10 Sweet Tips to Optimize Your LinkedIn Profile\n\n \n\nThe holiday hang-over has passed\, January is nearly completed\, and it looks like 2022 is starting with a bang!\n\n\n\nYou never get a second chance to make a first impression. Is your LinkedIn Profile representing you as well as it should?\n\n\n\nJoin DW Consulting Solutions Coaches\, Dayve Gabbard and Kelli Winter\, as they show you how to start the year right by optimizing your LinkedIn Profile. \n\nAll registrants will receive the replay and reference materials\, but you must register!\n\nREGISTRATION LINK:  https://dwcs-10-sweet-tips.eventbrite.com
X-ALT-DESC;FMTTYPE=text/html:<span style="font-size:14px"><strong><span style="color:#92D050">Wednesday\, January 26<sup>th</sup> at noon Eastern</span></strong></span><br />\n<span style="font-size:14px"><strong>10 Sweet Tips to Optimize Your LinkedIn Profile</strong></span><br />\n&nbsp\;<br />\n<span style="font-size:12px"><span style="color:#7E8890"><span style="font-family:open sans\,sans-serif">The holiday hang-over has passed\, January is nearly completed\, and it looks like 2022 is starting with a bang!<br />\n<br />\nYou never get a second chance to make a first impression. Is your LinkedIn Profile representing you as well as it should?<br />\n<br />\nJoin DW Consulting Solutions Coaches\, Dayve Gabbard and Kelli Winter\, as they show you how to start the year right by optimizing your LinkedIn Profile. </span></span><br />\n<em><span style="color:#7E8890"><span style="font-family:open sans\,sans-serif">All registrants will receive the replay and reference materials\,&nbsp\;<em><span style="font-family:open sans\,sans-serif">but you must register!</span></em></span></span></em></span><br />\n<span style="font-size:12px"><strong><span style="color:#7E8890"><span style="font-family:open sans\,sans-serif">REGISTRATION LINK:&nbsp\;</span></span></strong> <span style="color:black"><a href="https://dwcs-10-sweet-tips.eventbrite.com/"><span style="font-family:open sans\,sans-serif">https://dwcs-10-sweet-tips.eventbrite.com</span></a></span></span>
LOCATION:GoToMeeting
UID:e.1455.35293
SEQUENCE:3
DTSTAMP:20260422T014024Z
URL:https://business.palmbeaches.org/events/details/10-sweet-tips-to-optimize-your-linkedin-profile-35293
END:VEVENT

END:VCALENDAR
