BEGIN:VCALENDAR
VERSION:2.0
PRODID:-//ChamberMaster//Event Calendar 2.0//EN
METHOD:PUBLISH
X-PUBLISHED-TTL:P3D
REFRESH-INTERVAL:P3D
CALSCALE:GREGORIAN
BEGIN:VEVENT
DTSTART:20220428T113000Z
DTEND:20220428T130000Z
X-MICROSOFT-CDO-ALLDAYEVENT:FALSE
SUMMARY:April Breakfast - Legislative
DESCRIPTION:We invite you to join us on Thursday\, April 28 for a Legislative Update presented by Bill Herrle\, National Federation of Independent Business Florida at the Palm Beach County Convention Center. Individual seats\, full and half-tables available. Please register online at PalmBeaches.org. For sponsorships please contact Kirby Davis at kdavis@palmbeaches.org.\n\n \n*Photographs taken at this event may be used for publications and promotion.
X-ALT-DESC;FMTTYPE=text/html:<p style="margin: 0in 0in 0pt\;"><span style="font-family:arial\;"><span style="font-size:20px\;">We invite you to join us on Thursday\, April 28 for a Legislative Update presented by Bill Herrle\, National Federation of Independent Business Florida&nbsp\;at the Palm Beach County Convention Center. Individual seats\, full and half-tables available. Please register online at PalmBeaches.org. For sponsorships please contact Kirby Davis at <a href="mailto:kdavis@palmbeaches.org">kdavis@palmbeaches.org</a>.</span></span><br>\n&nbsp\;</p>\n<span style="font-size:16px\;"><span style="color:#000000\;">*Photographs taken at this event may be used for publications and promotion.</span></span>
LOCATION:Palm Beach County Convention Center 650 Okeechobee Blvd. West Palm Beach\, FL 33401
UID:e.1455.35354
SEQUENCE:3
DTSTAMP:20260422T070707Z
URL:https://business.palmbeaches.org/events/details/april-breakfast-legislative-35354
END:VEVENT

END:VCALENDAR
