BEGIN:VCALENDAR
VERSION:2.0
PRODID:-//ChamberMaster//Event Calendar 2.0//EN
METHOD:PUBLISH
X-PUBLISHED-TTL:P3D
REFRESH-INTERVAL:P3D
CALSCALE:GREGORIAN
BEGIN:VEVENT
DTSTART:20241029T130000Z
DTEND:20241029T140000Z
X-MICROSOFT-CDO-ALLDAYEVENT:FALSE
SUMMARY:Business Builder
DESCRIPTION:Learn how partnering with this Chamber is a good thing\n\nMeet a roomful of keen business owners and professionals\n\nExpand the quality of your contacts by making your networking WORK for you\n\nReceive an information packet with our Event Calendar\, your copies of the Chamber's directories\, committee information and more!
X-ALT-DESC;FMTTYPE=text/html:<strong>Learn</strong> how partnering with this Chamber is a good thing<br />\n<strong>Meet</strong>&nbsp\;a roomful of keen business owners and professionals<br />\n<strong>Expand</strong>&nbsp\;the quality of your contacts by making your networking WORK for you<br />\n<strong>Receive</strong> an information packet with our Event Calendar\, your copies of the Chamber&#39\;s directories\, committee information and more!
LOCATION:The Chamber of Commerce of the Palm Beaches Boardroom 401 N. Flagler Dr. West Palm Beach\, Fl. 33401
UID:e.1455.39772
SEQUENCE:3
DTSTAMP:20260419T131118Z
URL:https://business.palmbeaches.org/events/details/business-builder-39772
END:VEVENT

END:VCALENDAR
