BEGIN:VCALENDAR
VERSION:2.0
PRODID:-//ChamberMaster//Event Calendar 2.0//EN
METHOD:PUBLISH
X-PUBLISHED-TTL:P3D
REFRESH-INTERVAL:P3D
CALSCALE:GREGORIAN
BEGIN:VEVENT
DTSTART:20220522T120000Z
DTEND:20220522T160000Z
X-MICROSOFT-CDO-ALLDAYEVENT:FALSE
SUMMARY:Cars & Coffee at Palm Beach Outlets
DESCRIPTION:Calling all car enthusiasts! Visit Cars & Coffee at Palm Beach Outlets on Sunday\, May 22\, 2022\, from 8 a.m. to 12 noon to view a spectacular collection of exotics\, classics\, custom\, muscle cars and more. A wide array of vendors\, giveaways\, and other surprises will also be on-site. Various retailers and restaurants will have early access shopping before 11 a.m. Spectator parking is complimentary. Cars & Coffee is open to all makes\, models and vintages\; there is a $10 display charge per participating vehicle at the event entrance. Adam's Polishes serves as Title Sponsor for the shows. Vehicle registration is available at CarsandCoffeePB.com. For more information\, visit PalmBeachOutlets.com.
X-ALT-DESC;FMTTYPE=text/html:Calling all car enthusiasts! Visit Cars &amp\; Coffee at Palm Beach Outlets on Sunday\, May 22\, 2022\, from 8 a.m. to 12 noon to view a spectacular collection of exotics\, classics\, custom\, muscle cars and more. A wide array of vendors\, giveaways\, and other surprises will also be on-site. Various retailers and restaurants will have early access shopping before 11 a.m. Spectator parking is complimentary. Cars &amp\; Coffee is open to all makes\, models and vintages\; there is a $10 display charge per participating vehicle at the event entrance. Adam&rsquo\;s Polishes serves as Title Sponsor for the shows. Vehicle registration is available at <a href="https://www.carsandcoffeepb.com/">CarsandCoffeePB.com</a>. For more information\, visit <a href="https://www.palmbeachoutlets.com/">PalmBeachOutlets.com</a>.
LOCATION:Palm Beach Outlets 1751 Palm Beach Lakes Boulevard West Palm Beach\, FL 33401
UID:e.1455.35380
SEQUENCE:3
DTSTAMP:20260422T092828Z
URL:https://business.palmbeaches.org/events/details/cars-coffee-at-palm-beach-outlets-05-22-2022-35380
END:VEVENT

END:VCALENDAR
