BEGIN:VCALENDAR
VERSION:2.0
PRODID:-//ChamberMaster//Event Calendar 2.0//EN
METHOD:PUBLISH
X-PUBLISHED-TTL:P3D
REFRESH-INTERVAL:P3D
CALSCALE:GREGORIAN
BEGIN:VEVENT
DTSTART:20240911T130000Z
DTEND:20240911T140000Z
X-MICROSOFT-CDO-ALLDAYEVENT:FALSE
SUMMARY:Coffee & Chat w/ Past Athena Young Professional Recipients
DESCRIPTION:Join us for this exclusive opportunity to learn how amazing women like Sarah Criser Elwell  and Alexandria Ayala  became recipients of one of the most prestigious and exclusive international awards in the world!\n\nPresented by the Women in Business Committee \n\n\n\nSubmit questions to these women using the link below: \n\nhttps://business.palmbeaches.org/form/view/33900\n\n\n\n\n\n\n\nAbout Alexandria: \n\nAlexandria Ayala has over a decade of experience in government\, public service\, and legislative affairs. She has previously served as a Legislative Aide on the Palm Beach County Commission\, where she formed successful partnerships and supported policy initiatives that address our community's concerns. Additionally\, she served as a Legislative Aide in The Florida House of Representatives\, where she worked on constituent issues and supported efforts to craft policy that positively impacted Palm Beach County's families\, businesses\, and schools.\n\nAlexandria currently serves as an elected School Board member\, representing District 2 on the Palm Beach County School Board. She was elected in 2020 and is the first Latina and the youngest person elected in Palm Beach County School Board history.\n\nBorn in Puerto Rico and raised in Palm Springs\, Florida\, Alexandria graduated from the University of Central Florida with a bachelor's degree in Political Science and a minor in Journalism Studies. She is an alumnus of the Palm Beach County School District\, having attended three District-operated schools within District 2. \n\nCommitted to empowering the community through engagement and service\, Alexandria is proud to serve on the boards of various organizations throughout Palm Beach County.\n\n\n\n\n\nAbout Sarah Criser Elwell: \n\nSarah Criser Elwell serves as Chief Executive Officer of the Forum Club of the Palm Beaches\, Florida's largest nonpartisan political and public affairs organization. In this capacity\, she plans\, recruits for\, and presents monthly events with national leaders whose words and actions impact lives all around the world. She is responsible for the exchange of friendly discourse among the organization's membership of nearly 800 South Florida business\, political\, and community leaders\, and fosters future engagement and civic learning among students in our area. Elwell previously worked for Moore Agency\, handling brand identity\, publicity\, media training\, and event planning. She also served as Communications Director for two Members of Congress and Deputy Press Secretary for Florida's Commissioner of Agriculture. Elwell earned a master's degree from Florida State University and a bachelor's degree from the University of Florida. She and her husband\, Kevin\, live in Palm Beach Gardens with their two daughters.\n\n\n\n\n\n\n\n\n\n\n\n\n\n\n\n\n\n\n\nPictured (L-R): Alexandria Ayala & Sarah Criser Elwell
X-ALT-DESC;FMTTYPE=text/html:<p><span style="font-size:20px\;"><span style="font-family:verdana\;">Join us for this exclusive&nbsp\;opportunity to learn how amazing women&nbsp\;like <strong>Sarah Criser Elwell</strong>&nbsp\; and <strong>Alexandria Ayala</strong>&nbsp\; became recipients of one of the most prestigious and exclusive international awards in the world!</span></span><br />\n<span style="font-size:20px\;"><span style="font-family:verdana\;"><em><span style="font-size:16px\;">Presented by the Women in Business Committee&nbsp\;</span></em></span></span><br />\n<br />\n<strong><span style="font-size:20px\;"><span style="font-family:verdana\;">Submit questions to these women using the link below:&nbsp\;</span></span></strong><br />\n<span style="font-family:arial\,sans-serif\;"><span style="font-size:16.0pt\;"><a href="https://business.palmbeaches.org/form/view/33900">https://business.palmbeaches.org/form/view/33900</a></span></span><br />\n<br />\n<br />\n<br />\n<span style="font-size:12px\;"><span style="font-family:verdana\;"><u><strong>About Alexandria:&nbsp\;</strong></u><br />\n<span style="color:#333333\;">Alexandria Ayala has over a decade of experience in government\, public service\, and legislative affairs. She has previously served as a Legislative Aide on the Palm Beach County Commission\, where she formed successful partnerships and supported policy initiatives that address our community&rsquo\;s concerns. Additionally\, she served as a Legislative Aide in The Florida House of Representatives\, where she worked on constituent issues and supported efforts to craft policy that positively impacted Palm Beach County&rsquo\;s families\, businesses\, and schools.</span><br />\n<span style="color:#333333\;">Alexandria currently serves as an elected School Board member\, representing District 2 on the Palm Beach County School Board. She was elected in 2020 and is the first Latina and the youngest person elected in Palm Beach County School Board history.</span><br />\n<span style="color:#333333\;">Born in Puerto Rico and raised in Palm Springs\, Florida\, Alexandria graduated from the University of Central Florida with a bachelor&#39\;s degree in Political Science and a minor in Journalism Studies. She is an alumnus of the Palm Beach County School District\, having attended three District-operated schools within District 2. </span><br />\n<span style="color:#333333\;">Committed to empowering the community through engagement and service\, Alexandria is proud to serve on the boards of various organizations throughout Palm Beach County.</span><br />\n<br />\n<br />\n<u><strong><span style="color:#333333\;">About Sarah Criser Elwell:&nbsp\;</span></strong></u></span></span></p>\n\n<p><span style="font-size:12px\;"><span style="font-family:verdana\;"><span style="color:#1D1D1D\;">Sarah Criser Elwell serves as Chief Executive Officer of the Forum Club of the Palm Beaches\, Florida&#39\;s largest nonpartisan political and public affairs organization. In this capacity\, she plans\, recruits for\, and presents monthly events with national leaders whose words and actions impact lives all around the world. She is responsible for the exchange of friendly discourse among the organization&#39\;s membership of nearly 800 South Florida business\, political\, and community leaders\, and fosters future engagement and civic learning among students in our area. Elwell previously worked for Moore Agency\, handling brand identity\, publicity\, media training\, and event planning. She also served as Communications Director for two Members of Congress and Deputy Press Secretary for Florida&rsquo\;s Commissioner of Agriculture. Elwell earned a master&rsquo\;s degree from Florida State University and a bachelor&rsquo\;s degree from the University of Florida. She and her husband\, Kevin\, live in Palm Beach Gardens with their two daughters.</span></span></span><br />\n<br />\n<br />\n<br />\n<br />\n<br />\n<br />\n<br />\n<br />\n<br />\n<span style="font-size:12px\;"><span style="font-family:verdana\;"><span style="color:#333333\;">Pictured (L-R): Alexandria Ayala &amp\; Sarah Criser Elwell&nbsp\;</span></span></span><br />\n<br />\n<br />\n<span style="font-size:12.0pt\;font-family:&quot\;Arial&quot\;\,sans-serif\;\ncolor:#050304"><o:p></o:p></span></p>\n
LOCATION:Chamber of Commerce Boardroom: 401 N. Flagler Drive West Palm Beach\, FL.\, 33401 Parking: The Chamber is lucky enough to have a private free parking lot. Use the entrance on 4th Street
UID:e.1455.36720
SEQUENCE:3
DTSTAMP:20260419T164651Z
URL:https://business.palmbeaches.org/events/details/coffee-chat-w-past-athena-young-professional-recipients-36720
END:VEVENT

END:VCALENDAR
