BEGIN:VCALENDAR
VERSION:2.0
PRODID:-//ChamberMaster//Event Calendar 2.0//EN
METHOD:PUBLISH
X-PUBLISHED-TTL:P3D
REFRESH-INTERVAL:P3D
CALSCALE:GREGORIAN
BEGIN:VEVENT
DTSTART:20231213T190000Z
DTEND:20231213T200000Z
X-MICROSOFT-CDO-ALLDAYEVENT:FALSE
SUMMARY:Coping with Loss During the Holidays
DESCRIPTION:Good Samaritan Medical Center and Vitas Healthcare invite you to a facilitated discussion with chaplain and grief counselor Jason Fairbanks where you can join others who are coping with loss during the holiday season. This session will feature education on coping with grief during the holidays\, mutual support\, and the opportunity to share treasured memories.
X-ALT-DESC;FMTTYPE=text/html:Good Samaritan Medical Center and Vitas Healthcare invite you to a facilitated discussion with chaplain and grief counselor Jason Fairbanks where you can join others who are coping with loss during the holiday season. This session will feature education on coping with grief during the holidays\, mutual support\, and the opportunity to share treasured memories.
LOCATION:Mandel Public Library 411 Clematis Street West Palm Beach\, FL 33401 Clematis Room
UID:e.1455.36376
SEQUENCE:3
DTSTAMP:20260424T035046Z
URL:https://business.palmbeaches.org/events/details/coping-with-loss-during-the-holidays-36376
END:VEVENT

END:VCALENDAR
