BEGIN:VCALENDAR
VERSION:2.0
PRODID:-//ChamberMaster//Event Calendar 2.0//EN
METHOD:PUBLISH
X-PUBLISHED-TTL:P3D
REFRESH-INTERVAL:P3D
CALSCALE:GREGORIAN
BEGIN:VEVENT
DTSTART:20240424T040000Z
DTEND:20240424T163000Z
X-MICROSOFT-CDO-ALLDAYEVENT:FALSE
SUMMARY:Debbie’s Top Tips
DESCRIPTION:Debbie's Top Tips\n\n \n\nChange is inevitable   but can still be difficult to navigate! Would you believe there have been over 28 new LinkedIn features released since January 2024? It can be daunting to realize how many LinkedIn changes there have been and how to best utilize them!\n\n \n\nBut - take a breath! You need not pay attention to all of them.\n\n \n\nJoin Debbie Wemyss and Dayve Gabbard for this free webinar to ensure you know about the new options that can set you apart from your competition!\n\n\n\n\n\nAll registrants will receive the replay and reference materials\, but you must register!\n\n \n\nREGISTRATION LINK: https://dwconsultingsolutions.com/webinars/april-24-2024-webinar-debbies-top-tips/
X-ALT-DESC;FMTTYPE=text/html:<br />\n<strong><span style="font-size:16.0pt">Debbie&rsquo\;s Top Tips</span></strong><br />\n&nbsp\;<br />\nChange is inevitable &ndash\; but can still be difficult to navigate! Would you believe there have been over 28 new LinkedIn features released since January 2024? It can be daunting to realize how many LinkedIn changes there have been and how to best utilize them!<br />\n&nbsp\;<br />\nBut - take a breath! You need not pay attention to all of them.<br />\n&nbsp\;<br />\nJoin Debbie Wemyss and Dayve Gabbard for this free webinar to ensure you know about the new options that can set you apart from your competition!<br />\n<br />\n<br />\n<span style="color:black">All registrants will receive the replay and reference materials\, but you must register!</span><br />\n&nbsp\;<br />\n<strong><span style="color:#7E8890"><span style="font-family:open sans\,sans-serif"><span style="font-size:11.5pt">REGISTRATION LINK: </span></span></span></strong><a href="https://dwconsultingsolutions.com/webinars/april-24-2024-webinar-debbies-top-tips/"><span style="font-family:open sans\,sans-serif"><span style="font-size:11.5pt">https://dwconsultingsolutions.com/webinars/april-24-2024-webinar-debbies-top-tips/</span></span></a>
LOCATION:ONLINE
UID:e.1455.36513
SEQUENCE:3
DTSTAMP:20260421T161826Z
URL:https://business.palmbeaches.org/events/details/debbie-s-top-tips-36513
END:VEVENT

END:VCALENDAR
