BEGIN:VCALENDAR
VERSION:2.0
PRODID:-//ChamberMaster//Event Calendar 2.0//EN
METHOD:PUBLISH
X-PUBLISHED-TTL:P3D
REFRESH-INTERVAL:P3D
CALSCALE:GREGORIAN
BEGIN:VEVENT
DTSTART:20200705T150000Z
DTEND:20200706T000000Z
X-MICROSOFT-CDO-ALLDAYEVENT:FALSE
SUMMARY:Fair Eats Drive-Thru at the South Florida Fairgrounds
DESCRIPTION:Grab some of your Favorite Fair Eats at the South Florida Fair's Food Drive-Thru July 3-5\, 2020 at the South Florida Fairgrounds. Drive in\, order your Fair Eats\, and drive out\, all from the safety and comfort of your own vehicle!\n\nThe Fair Food Drive-Thru will feature some of your favorites\, like deep-fried Oreos\, corn dogs\, and funnel cakes.\n\nThe event will be held from 11 a.m-8 p.m. Friday\, July 3-Sunday\, July 5.\n\nGate 8 off Fairgrounds Road is the point of entry. Patrons must remain in vehicles to maintain social distancing. Servers will come to you.
X-ALT-DESC;FMTTYPE=text/html:<p>Grab some of your Favorite Fair Eats at the South Florida Fair&rsquo\;s Food Drive-Thru July 3-5\, 2020 at the South Florida Fairgrounds. Drive in\, order your Fair Eats\, and drive out\, all from the safety and comfort of your own vehicle!</p>\n\n<p>The Fair Food Drive-Thru will feature some of your favorites\, like deep-fried Oreos\, corn dogs\, and funnel cakes.</p>\n\n<p>The event will be held from 11 a.m-8 p.m. Friday\, July 3-Sunday\, July 5.</p>\n\n<p>Gate 8 off Fairgrounds Road is the point of entry. Patrons must remain in vehicles to maintain social distancing. Servers will come to you.</p>\n
LOCATION:South Florida Fairgrounds Enter Gate 8 9067 Southern Blvd. West Palm Beach FL 33411 (561) 793-0333
UID:e.1455.33435
SEQUENCE:3
DTSTAMP:20260422T030123Z
URL:https://business.palmbeaches.org/events/details/fair-eats-drive-thru-at-the-south-florida-fairgrounds-07-05-2020-33435
END:VEVENT

END:VCALENDAR
