BEGIN:VCALENDAR
VERSION:2.0
PRODID:-//ChamberMaster//Event Calendar 2.0//EN
METHOD:PUBLISH
X-PUBLISHED-TTL:P3D
REFRESH-INTERVAL:P3D
CALSCALE:GREGORIAN
BEGIN:VEVENT
DTSTART:20210515T113000Z
DTEND:20210515T170000Z
X-MICROSOFT-CDO-ALLDAYEVENT:FALSE
SUMMARY:Golf & Gobble
DESCRIPTION:Get your gobble on with us at Golf & Gobble! \n\n\n\nEnjoy a round of golf at the Palm Beach Par 3\, a savory lunch\, and exciting raffle prizes. Players leave with goody bags and Nothing Bundt Cakes. Winners receive turkeys and a special surprise just in time for a Spring Thanksgiving themed dinner! \n\n\n\nAll proceeds benefit Quantum House families whose children are being treated for a serious medical condition in Palm Beach County.\n\n\n\nWe've got a stuffed schedule: \n\nRegistration & Breakfast   7:30 a.m.\n\nShotgun Start   8:15 a.m.\n\nSavory Lunch   11:30 a.m.\n\nAwards & Raffle   12:30 p.m. \n\n\n\nRegistration prices start at $150 for individual players. \n\nPalm Beach Par 3 Saturday\, May 15th 2021 7:30 a.m.   2:00 p.m. \n\n\n\nFor sponsorship information and to register visit www.quantumhouse.org/ events or contact Maria Pumarejo at mpumarejo@quantumhouse.org.
X-ALT-DESC;FMTTYPE=text/html:<div style="text-align: center\;"><strong><span style="font-size:14px">Get your gobble on with us at Golf &amp\; Gobble!&nbsp\;</span></strong><br />\n<br />\nEnjoy a round of golf at the Palm Beach Par 3\, a savory lunch\, and exciting raffle prizes. Players leave with goody bags and Nothing Bundt Cakes. Winners receive turkeys and a special surprise just in time for a Spring Thanksgiving themed dinner!&nbsp\;<br />\n<br />\n<strong>All proceeds benefit Quantum House families whose children are being treated for a serious medical condition in Palm Beach County.<br />\n<br />\nWe&rsquo\;ve got a stuffed schedule: </strong><br />\nRegistration &amp\; Breakfast &ndash\; 7:30 a.m.<br />\nShotgun Start &ndash\; 8:15 a.m.<br />\nSavory Lunch &ndash\; 11:30 a.m.<br />\nAwards &amp\; Raffle &ndash\; 12:30 p.m.&nbsp\;<br />\n<br />\n<strong>Registration prices start at $150 for individual players.&nbsp\;<br />\nPalm Beach Par 3 Saturday\, May 15th 2021 7:30 a.m. &ndash\; 2:00 p.m.&nbsp\;</strong><br />\n<br />\nFor sponsorship information and to register visit www.quantumhouse.org/ events or contact Maria Pumarejo at mpumarejo@quantumhouse.org.</div>\n
LOCATION:Palm Beach Par 3 2345 S Ocean Blvd\, Palm Beach\, FL 33480
UID:e.1455.34936
SEQUENCE:3
DTSTAMP:20260420T081859Z
URL:https://business.palmbeaches.org/events/details/golf-gobble-34936
END:VEVENT

END:VCALENDAR
