BEGIN:VCALENDAR
VERSION:2.0
PRODID:-//ChamberMaster//Event Calendar 2.0//EN
METHOD:PUBLISH
X-PUBLISHED-TTL:P3D
REFRESH-INTERVAL:P3D
CALSCALE:GREGORIAN
BEGIN:VEVENT
DTSTART:20250517T230000Z
DTEND:20250517T230000Z
X-MICROSOFT-CDO-ALLDAYEVENT:FALSE
SUMMARY:GOSPEL GALA FEATURING YOLANDA ADAMS
DESCRIPTION:Gospel powerhouse\, multi-Grammy  winner YOLANDA ADAMS has played a significant role in expanding the genre's popularity. She is revered as one of the greatest Gospel singers of all time. With 15 albums\, she has earned numerous accolades including the first American Music Award for Contemporary Gospel Artist\, four Gospel Music Association Dove Awards\, five Grammy  Awards\, sixteen Stellar Gospel Music Awards\, seven NAACP Image Awards\, three Soul Train Music Awards and five BET Awards. Her 1999 breakout\, Mountain High Valley Low\, was a platinum-selling success that helped introduce her to the masses and she went on to release a subsequent string of popular albums.
X-ALT-DESC;FMTTYPE=text/html:<span style="color:rgb(0\, 0\, 0)\; font-family:brandon-grotesque\,sans-serif\; font-size:18px">Gospel powerhouse\, multi-Grammy&reg\; winner YOLANDA ADAMS has played a significant role in expanding the genre&rsquo\;s popularity. She is revered as one of the greatest Gospel singers of all time. With 15 albums\, she has earned numerous accolades including the first American Music Award for Contemporary Gospel Artist\, four Gospel Music Association Dove Awards\, five Grammy&reg\; Awards\, sixteen Stellar Gospel Music Awards\, seven NAACP Image Awards\, three Soul Train Music Awards and five BET Awards. Her 1999 breakout\,&nbsp\;</span><em>Mountain High Valley Low</em><span style="color:rgb(0\, 0\, 0)\; font-family:brandon-grotesque\,sans-serif\; font-size:18px">\, was a platinum-selling success that helped introduce her to the masses and she went on to release a subsequent string of popular albums.</span>&nbsp\;&nbsp\;&nbsp\;&nbsp\;&nbsp\;&nbsp\;&nbsp\;&nbsp\;&nbsp\;&nbsp\;&nbsp\;&nbsp\;&nbsp\;&nbsp\;&nbsp\;&nbsp\;&nbsp\;&nbsp\;&nbsp\;&nbsp\;&nbsp\;&nbsp\;&nbsp\;&nbsp\;&nbsp\;&nbsp\;&nbsp\;&nbsp\;&nbsp\;&nbsp\;&nbsp\;&nbsp\;
LOCATION:Kravis Center for the Performing Arts 701 Okeechobee Boulevard Palm Beach\, FL 33401
UID:e.1455.40740
SEQUENCE:3
DTSTAMP:20260420T035400Z
URL:https://business.palmbeaches.org/events/details/gospel-gala-featuring-yolanda-adams-40740
END:VEVENT

END:VCALENDAR
