BEGIN:VCALENDAR
VERSION:2.0
PRODID:-//ChamberMaster//Event Calendar 2.0//EN
METHOD:PUBLISH
X-PUBLISHED-TTL:P3D
REFRESH-INTERVAL:P3D
CALSCALE:GREGORIAN
BEGIN:VEVENT
DTSTART:20240929T000000Z
DTEND:20240929T013000Z
X-MICROSOFT-CDO-ALLDAYEVENT:FALSE
SUMMARY:Goumba Johnny Live at The Paddock at PBKC
DESCRIPTION:Goumba Johnny" Sialiano is a Comedian\, Actor\, and former Radio Host\, who was born in the Bronx. Currently\, Goumba Johnny is on tour with comedian Anthony Rodia. Johnny has shared the stage with many of the top acts in comedy such as Jerry Seinfeld\, Andrew Dice Clay\, George Wallace\, Martin Lawrence\, Colin Quinn\, Paul Rodriguez\, Caroline Rhea\, Dom Irrera\, and Pat Cooper. With his natural quick wit and charm\, Johnny has joined the ranks of other comedians by performing stand-up at popular comedy clubs like Caroline's in Manhattan\, Mohegan Sun\, Foxwoods in Connecticut\, the Borgata\, and Caesars Palace in Atlantic City.\n\nFor additional ticket information\, please contact Patrick Sullivan at 561-683-2222 ext. 140 or pats@pbkennelclub.com\n\n\n\n\n\nNo Refunds\n\nNo Seat Exchanges.\n\nOnly Purchase Tickets from Eventbrite.\n\n\n	Do not purchase tickets from third party sites\n\n\nAge Requirement\n\n\n	21 plus\n\n\nFloor Plan\n\n\n	Each row is separated by two to three stairs.\n\n\nParties of 3 or less tickets\n\n\n	Will be seated with other guests at the same table\n	Tables at venue seat 4 or 6 guests\n	If you do not purchase the entire table\, you could be seated with other guests.\n\n\nWheelchair Accessibility\n\n\n	Top purple tier on seating map\n\n\nFood Service\n\n\n	Special Italian Comedy Menu (See Menu Below)\n	6:30 p.m. to 7:45 p.m. food service\n	One item purchase required per person.\n	No outside food or drink allowed\n\n\nCocktail Service\n\n\n	6:30 to end of show\n\n\nHours\n\n\n	Doors open 6:30 p.m.\n	Show starts 8:00 p.m.\n	Must be seated by 7:45 p.m.\n\n\nValet Parking Available for $10.00\n\n\n	Valet located at The Paddock Entrance\n\n\nParking\n\n\n	$5 Premium Parking located on your left when entering Main Entrance\n	General Parking "Free Parking" located on your right at stop sign from Main Entrance\n\n\n \n \n\nFor any questions or to purchase single tickets\, please contact: pats@pbkennelclub.com
X-ALT-DESC;FMTTYPE=text/html:<div>\n<div>\n<p>Goumba Johnny&quot\; Sialiano is a Comedian\, Actor\, and former Radio Host\, who was born in the Bronx. Currently\, Goumba Johnny is on tour with comedian Anthony Rodia. Johnny has shared the stage with many of the top acts in comedy such as Jerry Seinfeld\, Andrew Dice Clay\, George Wallace\, Martin Lawrence\, Colin Quinn\, Paul Rodriguez\, Caroline Rhea\, Dom Irrera\, and Pat Cooper. With his natural quick wit and charm\, Johnny has joined the ranks of other comedians by performing stand-up at popular comedy clubs like Caroline&#39\;s in Manhattan\, Mohegan Sun\, Foxwoods in Connecticut\, the Borgata\, and Caesars Palace in Atlantic City.</p>\n\n<h3><strong>For additional ticket information\, please contact Patrick Sullivan at 561-683-2222 ext. 140 or pats@pbkennelclub.com</strong></h3>\n</div>\n</div>\n\n<div>\n<div>\n<h3><strong>No Refunds</strong></h3>\n\n<h3><strong>No Seat Exchanges.</strong></h3>\n\n<h3><strong>Only Purchase Tickets from Eventbrite.</strong></h3>\n\n<ul>\n	<li>Do not purchase tickets from third party sites</li>\n</ul>\n\n<h3><strong>Age Requirement</strong></h3>\n\n<ul>\n	<li>21 plus</li>\n</ul>\n\n<h3><strong>Floor Plan</strong></h3>\n\n<ul>\n	<li><strong>Each row is separated by two to three stairs.</strong></li>\n</ul>\n\n<h3><strong>Parties of 3 or less tickets</strong></h3>\n\n<ul>\n	<li>Will be seated with other guests at the same table</li>\n	<li>Tables at venue seat 4 or 6 guests</li>\n	<li><strong>If you do not purchase the entire table\, you could be seated with other guests.</strong></li>\n</ul>\n\n<h3><strong>Wheelchair&nbsp\;</strong><strong>Accessibility</strong></h3>\n\n<ul>\n	<li>Top purple tier on seating map</li>\n</ul>\n\n<h3><strong>Food Service</strong></h3>\n\n<ul>\n	<li>Special Italian Comedy Menu (See Menu Below)</li>\n	<li>6:30 p.m. to 7:45 p.m. food service</li>\n	<li><strong>One item purchase required per person.</strong></li>\n	<li><strong>No outside food or drink allowed</strong></li>\n</ul>\n\n<h3><strong>Cocktail Service</strong></h3>\n\n<ul>\n	<li>6:30 to end of show</li>\n</ul>\n\n<h3><strong>Hours</strong></h3>\n\n<ul>\n	<li>Doors open 6:30 p.m.</li>\n	<li>Show starts 8:00 p.m.</li>\n	<li>Must be seated by 7:45 p.m.</li>\n</ul>\n\n<h3><strong>Valet Parking Available for $10.00</strong></h3>\n\n<ul>\n	<li>Valet located at The Paddock Entrance</li>\n</ul>\n\n<h3><strong>Parking</strong></h3>\n\n<ul>\n	<li>$5 Premium Parking located on your left when entering Main Entrance</li>\n	<li>General Parking &quot\;Free Parking&quot\; located on your right at stop sign from Main Entrance</li>\n</ul>\n\n<p>&nbsp\;</p>\n&nbsp\;\n\n<h3><strong>For any questions or to purchase single tickets\, please contact: pats@pbkennelclub.com</strong></h3>\n\n<div>&nbsp\;</div>\n</div>\n</div>\n\n<div>\n<div>\n<div>&nbsp\;</div>\n</div>\n</div>\n
LOCATION:The Paddock at PBKC
UID:e.1455.36733
SEQUENCE:3
DTSTAMP:20260419T162845Z
URL:https://business.palmbeaches.org/events/details/goumba-johnny-live-at-the-paddock-at-pbkc-36733
END:VEVENT

END:VCALENDAR
