BEGIN:VCALENDAR
VERSION:2.0
PRODID:-//ChamberMaster//Event Calendar 2.0//EN
METHOD:PUBLISH
X-PUBLISHED-TTL:P3D
REFRESH-INTERVAL:P3D
CALSCALE:GREGORIAN
BEGIN:VEVENT
DTSTART:20220112T170000Z
DTEND:20220112T180000Z
X-MICROSOFT-CDO-ALLDAYEVENT:FALSE
SUMMARY:Health & Human Services Committee Meeting
DESCRIPTION:Company: Speak Up for Kids PBC\n\nSpeaker: Barbara Scarlata \n\nTopic: Speak Up for Kids PBC - A Voice for Abused Children\n\n\n\nAbout Speak Up for Kids PBC: \n\nREACHING 100% ADVOCACY for every abused\, abandoned\, and neglected child in Palm Beach County\, EFFECTIVELY BREAKING the cycles of abuse\, violence\, crime and neglect one child at a time. As the exclusive fundraising arm of the Guardian ad Litem program\, SPEAK UP FOR KIDS exists to support them and our other programs.\n\n\n\nPrograms: \n\n- Students Speak Up for Kids \n\n- Foster Palm Beach \n\n- Therapeutic Court \n\n- Early Childhood Court \n\n \n\n\n\nAbout Barbara Scarlata: \n\nBarbara Scarlata is a graduate of Temple University in Philadelphia and has her JD from Beasley School of Law at Temple University. She was an attorney in the Philadelphia area for over 30 years with an emphasis in family law. For the 15 years prior to moving to Palm Beach County\, she represented the legal interests of children in foster care. After retiring from law and moving to Palm Beach County\, she decided that she wanted to work full time giving back to the community. She discovered the world of nonprofits.  For the past 7 years she has tirelessly fought for the interests of the children in the community. Her passion for helping children led her to Speak Up for Kids\, where she fundraises to provide the resources for the Guardian ad Litem volunteers who advocate for the best interest pf children in foster care.\n\n \n\nBarbara is on the Board of Directors of Executive Women of the Palm Beaches Foundation\, a graduate of the 2020 class of Leadership Focus\, and a graduate of the 2021 class of Leadership PBC.  She was nominated for Nonprofits First Hats Off Award in 2019 and nominated for Palm Beach North Chamber of Commerce Woman of the year in 2017.\n\n \n\nBarbara's vision is a world where every abused\, abandoned\, and neglected child in Palm Beach County has a voice that is heard\, and that each of these innocent children has the opportunity to live as normal a life as possible.\n\n\n\n\n\nHealth and Human Services\n\nThe Health and Human Services Committee meets on the second Tuesday of the month at 12:00p.m. at varying locations. Visit the Health and Human Services Committee webpage for more information here.\n\n\n\nFor more information on Sponsorship and hosting opportunities to the Health and Human Services Committee\, contact Membership Services\, (561) 833-3894.
X-ALT-DESC;FMTTYPE=text/html:<p><span style="font-family:arial\;"><span style="font-size: 10.5pt\;"><span style="font-size:18px\;"><strong>Company: </strong></span></span><strong style="font-family: helvetica\, sans-serif\; font-size: 18px\;">Speak Up for Kids PBC</strong><br />\n<span style="font-size: 10.5pt\;"><span style="font-size:18px\;"><strong>Speaker: Barbara Scarlata&nbsp\;<br />\nTopic: Speak Up for Kids PBC - A Voice for Abused Children<br />\n<br />\n<u>About Speak Up for Kids PBC:&nbsp\;</u></strong></span></span><br />\nREACHING 100% ADVOCACY for every abused\, abandoned\, and neglected child in Palm Beach County\, EFFECTIVELY BREAKING the cycles of abuse\, violence\, crime and neglect one child at a time. As the exclusive fundraising arm of the Guardian ad Litem program\, SPEAK UP FOR KIDS exists to support them and our other programs.<br />\n<br />\n<span style="font-size:18px\;"><strong>Programs:&nbsp\;</strong></span><br />\n<span style="font-size:16px\;">- Students Speak Up for Kids&nbsp\;<br />\n- Foster Palm Beach&nbsp\;<br />\n- Therapeutic Court&nbsp\;<br />\n- Early Childhood Court&nbsp\;</span><br />\n&nbsp\;<br />\n<br />\n<u><span style="font-size:16px\;"><strong>About Barbara Scarlata:&nbsp\;</strong></span></u><br />\n<span style="font-size:14px\;">Barbara Scarlata is a graduate of Temple University in Philadelphia and has her JD from Beasley School of Law at Temple University. She was an attorney in the Philadelphia area for over 30 years with an emphasis in family law. For the 15 years prior to moving to Palm Beach County\, she represented the legal interests of children in foster care. After retiring from law and moving to Palm Beach County\, she decided that she wanted to work full time giving back to the community. She discovered the world of nonprofits.&nbsp\; For the past 7 years she has tirelessly fought for the interests of the children in the community. Her passion for helping children led her to Speak Up for Kids\, where she fundraises to provide the resources for the Guardian ad Litem volunteers who advocate for the best interest pf children in foster care.<br />\n&nbsp\;<br />\nBarbara is on the Board of Directors of Executive Women of the Palm Beaches Foundation\, a graduate of the 2020 class of Leadership Focus\, and a graduate of the 2021 class of Leadership PBC.&nbsp\; She was nominated for Nonprofits First Hats Off Award in 2019 and nominated for Palm Beach North Chamber of Commerce Woman of the year in 2017.<br />\n&nbsp\;<br />\nBarbara&#39\;s vision is a world where every abused\, abandoned\, and neglected child in Palm Beach County has a voice that is heard\, and that each of these innocent children has the opportunity to live as normal a life as possible.</span></span><br />\n<br />\n<br />\n<span style="box-sizing: content-box\; font-weight: bolder\; bottom: auto\; clear: none\; content: normal\; direction: inherit\; empty-cells: show\; font-variant-numeric: inherit\; font-variant-east-asian: inherit\; font-stretch: inherit\; font-size: 14px\; font-family: Arial\, sans-serif\; left: auto\; line-height: inherit\; margin: 0px\; max-height: none\; max-width: none\; min-height: initial\; min-width: initial\; opacity: 1\; outline-offset: 0px\; overflow: visible\; padding: 0px\; position: static\; resize: none\; right: auto\; table-layout: auto\; text-overflow: clip\; top: auto\; vertical-align: baseline\; visibility: inherit\; word-break: inherit\; overflow-wrap: inherit\; z-index: auto\; background: none rgb(255\, 255\, 255)\; border: none\; border-collapse: separate\; border-radius: 0px\; height: auto\; width: auto\; box-shadow: none\;"><span style="box-sizing: content-box\; bottom: auto\; clear: none\; content: normal\; direction: inherit\; empty-cells: show\; font-style: inherit\; font-variant: inherit\; font-weight: inherit\; font-stretch: inherit\; font-family: sans-serif\, Arial\, Verdana\, &quot\;Trebuchet MS&quot\;\; left: auto\; letter-spacing: inherit\; line-height: inherit\; margin: 0px\; max-height: none\; max-width: none\; min-height: initial\; min-width: initial\; opacity: 1\; outline-offset: 0px\; overflow: visible\; padding: 0px\; position: static\; resize: none\; right: auto\; table-layout: auto\; text-align: inherit\; text-indent: inherit\; text-overflow: clip\; text-transform: inherit\; top: auto\; vertical-align: baseline\; visibility: inherit\; white-space: inherit\; word-break: inherit\; word-spacing: inherit\; overflow-wrap: inherit\; z-index: auto\; background-image: none\; background-position: initial\; background-size: initial\; background-repeat: initial\; background-attachment: initial\; background-origin: initial\; background-clip: initial\; border: none\; border-collapse: separate\; border-radius: 0px\; height: auto\; width: auto\; box-shadow: none\;">Health and Human Services</span></span><br style="box-sizing: content-box\; bottom: auto\; clear: none\; color: rgb(51\, 51\, 51)\; content: normal\; direction: inherit\; display: inline\; empty-cells: show\; float: none\; font-variant-numeric: inherit\; font-variant-east-asian: inherit\; font-stretch: inherit\; font-size: 13px\; font-family: sans-serif\, Arial\, Verdana\, &quot\;Trebuchet MS&quot\;\; left: auto\; line-height: inherit\; margin: 0px\; max-height: none\; max-width: none\; min-height: initial\; min-width: initial\; opacity: 1\; outline-offset: 0px\; overflow: visible\; padding: 0px\; position: static\; resize: none\; right: auto\; table-layout: auto\; text-overflow: clip\; top: auto\; vertical-align: baseline\; visibility: inherit\; word-break: inherit\; overflow-wrap: inherit\; z-index: auto\; background: none rgb(255\, 255\, 255)\; border: none\; border-collapse: separate\; border-radius: 0px\; height: auto\; width: auto\;" />\n<span style="box-sizing: content-box\; bottom: auto\; clear: none\; content: normal\; direction: inherit\; empty-cells: show\; font-variant-numeric: inherit\; font-variant-east-asian: inherit\; font-stretch: inherit\; font-size: 14px\; font-family: sans-serif\, Arial\, Verdana\, &quot\;Trebuchet MS&quot\;\; left: auto\; line-height: inherit\; margin: 0px\; max-height: none\; max-width: none\; min-height: initial\; min-width: initial\; opacity: 1\; outline-offset: 0px\; overflow: visible\; padding: 0px\; position: static\; resize: none\; right: auto\; table-layout: auto\; text-overflow: clip\; top: auto\; vertical-align: baseline\; visibility: inherit\; word-break: inherit\; overflow-wrap: inherit\; z-index: auto\; background: none rgb(255\, 255\, 255)\; border: none\; border-collapse: separate\; border-radius: 0px\; height: auto\; width: auto\; box-shadow: none\;">The Health and Human Services Committee meets on the second Tuesday of the month at 12:00p.m. at varying locations. Visit the Health and Human Services Committee webpage for more information&nbsp\;</span><span style="box-sizing: content-box\; bottom: auto\; clear: none\; content: normal\; direction: inherit\; empty-cells: show\; font-variant-numeric: inherit\; font-variant-east-asian: inherit\; font-stretch: inherit\; font-size: 14px\; font-family: sans-serif\, Arial\, Verdana\, &quot\;Trebuchet MS&quot\;\; left: auto\; line-height: inherit\; margin: 0px\; max-height: none\; max-width: none\; min-height: initial\; min-width: initial\; opacity: 1\; outline-offset: 0px\; overflow: visible\; padding: 0px\; position: static\; resize: none\; right: auto\; table-layout: auto\; text-overflow: clip\; top: auto\; vertical-align: baseline\; visibility: inherit\; word-break: inherit\; overflow-wrap: inherit\; z-index: auto\; background: none rgb(255\, 255\, 255)\; border: none\; border-collapse: separate\; border-radius: 0px\; height: auto\; width: auto\; box-shadow: none\;"><a href="http://www.palmbeaches.org/pages/health-and-human-services" style="box-sizing: content-box\; background: none\; color: rgb(10\, 122\, 202)\; text-decoration-line: none\; bottom: auto\; clear: none\; content: normal\; direction: inherit\; display: inline\; empty-cells: show\; float: none\; font: inherit\; left: auto\; letter-spacing: inherit\; margin: 0px\; max-height: none\; max-width: none\; min-height: initial\; min-width: initial\; opacity: 1\; outline-offset: 0px\; overflow: visible\; padding: 0px\; position: static\; resize: none\; right: auto\; table-layout: auto\; text-align: inherit\; text-indent: inherit\; text-overflow: clip\; text-transform: inherit\; top: auto\; vertical-align: baseline\; visibility: inherit\; white-space: inherit\; word-break: inherit\; word-spacing: inherit\; overflow-wrap: break-word\; z-index: auto\; border: none\; border-collapse: separate\; border-radius: 0px\; height: auto\; width: auto\; box-shadow: none\;">here</a>.</span><br style="box-sizing: content-box\; bottom: auto\; clear: none\; color: rgb(51\, 51\, 51)\; content: normal\; direction: inherit\; display: inline\; empty-cells: show\; float: none\; font-variant-numeric: inherit\; font-variant-east-asian: inherit\; font-stretch: inherit\; font-size: 13px\; font-family: sans-serif\, Arial\, Verdana\, &quot\;Trebuchet MS&quot\;\; left: auto\; line-height: inherit\; margin: 0px\; max-height: none\; max-width: none\; min-height: initial\; min-width: initial\; opacity: 1\; outline-offset: 0px\; overflow: visible\; padding: 0px\; position: static\; resize: none\; right: auto\; table-layout: auto\; text-overflow: clip\; top: auto\; vertical-align: baseline\; visibility: inherit\; word-break: inherit\; overflow-wrap: inherit\; z-index: auto\; background: none rgb(255\, 255\, 255)\; border: none\; border-collapse: separate\; border-radius: 0px\; height: auto\; width: auto\;" />\n<br style="box-sizing: content-box\; bottom: auto\; clear: none\; color: rgb(102\, 102\, 102)\; content: normal\; direction: inherit\; display: inline\; empty-cells: show\; float: none\; font-variant-numeric: inherit\; font-variant-east-asian: inherit\; font-stretch: inherit\; font-size: 14px\; font-family: Arial\, sans-serif\; left: auto\; line-height: inherit\; margin: 0px\; max-height: none\; max-width: none\; min-height: initial\; min-width: initial\; opacity: 1\; outline-offset: 0px\; overflow: visible\; padding: 0px\; position: static\; resize: none\; right: auto\; table-layout: auto\; text-overflow: clip\; top: auto\; vertical-align: baseline\; visibility: inherit\; word-break: inherit\; overflow-wrap: inherit\; z-index: auto\; background: none rgb(255\, 255\, 255)\; border: none\; border-collapse: separate\; border-radius: 0px\; height: auto\; width: auto\;" />\n<span style="box-sizing: content-box\; bottom: auto\; clear: none\; content: normal\; direction: inherit\; empty-cells: show\; font-variant-numeric: inherit\; font-variant-east-asian: inherit\; font-stretch: inherit\; font-size: 14px\; font-family: sans-serif\, Arial\, Verdana\, &quot\;Trebuchet MS&quot\;\; left: auto\; line-height: inherit\; margin: 0px\; max-height: none\; max-width: none\; min-height: initial\; min-width: initial\; opacity: 1\; outline-offset: 0px\; overflow: visible\; padding: 0px\; position: static\; resize: none\; right: auto\; table-layout: auto\; text-overflow: clip\; top: auto\; vertical-align: baseline\; visibility: inherit\; word-break: inherit\; overflow-wrap: inherit\; z-index: auto\; background: none rgb(255\, 255\, 255)\; border: none\; border-collapse: separate\; border-radius: 0px\; height: auto\; width: auto\; box-shadow: none\;">For more information on Sponsorship and hosting opportunities to the Health and Human Services Committee\, contact Membership Services\, (561) 833-3894</span><span style="box-sizing: content-box\; bottom: auto\; clear: none\; content: normal\; direction: inherit\; empty-cells: show\; font-variant-numeric: inherit\; font-variant-east-asian: inherit\; font-stretch: inherit\; font-size: 14px\; font-family: sans-serif\, Arial\, Verdana\, &quot\;Trebuchet MS&quot\;\; left: auto\; line-height: inherit\; margin: 0px\; max-height: none\; max-width: none\; min-height: initial\; min-width: initial\; opacity: 1\; outline-offset: 0px\; overflow: visible\; padding: 0px\; position: static\; resize: none\; right: auto\; table-layout: auto\; text-overflow: clip\; top: auto\; vertical-align: baseline\; visibility: inherit\; word-break: inherit\; overflow-wrap: inherit\; z-index: auto\; background: none rgb(255\, 255\, 255)\; border: none\; border-collapse: separate\; border-radius: 0px\; height: auto\; width: auto\; box-shadow: none\;">.</span><br />\n<span style="font-size: 12pt\;"><o:p></o:p></span></p>\n
LOCATION:Chamber Boardroom 401 N. Flagler Dr. West Palm B each\, FL 33401
UID:e.1455.35129
SEQUENCE:3
DTSTAMP:20260422T014826Z
URL:https://business.palmbeaches.org/events/details/health-human-services-committee-meeting-35129
END:VEVENT

END:VCALENDAR
