BEGIN:VCALENDAR
VERSION:2.0
PRODID:-//ChamberMaster//Event Calendar 2.0//EN
METHOD:PUBLISH
X-PUBLISHED-TTL:P3D
REFRESH-INTERVAL:P3D
CALSCALE:GREGORIAN
BEGIN:VEVENT
DTSTART:20220525T160000Z
DTEND:20220525T163000Z
X-MICROSOFT-CDO-ALLDAYEVENT:FALSE
SUMMARY:How to use LinkedIn to 'marry' your Personal and Professional brands!
DESCRIPTION:Wednesday\, May 25\, 2022\, at noon Eastern\n\nHow to use LinkedIn to 'marry' your Personal and Professional brands!\n\n \n\nLinkedIn is much\, much\, more than Facebook for work. It provides a host of other benefits. It is IMPORTANT that you share a bit of your personal life with your colleagues and connections. It helps to establish and enrich your 'Know\, Like & Trust - ability' on the platform.\n\nJoin DWCS Coaches Dayve Gabbard and Kelli Winter as they walk you through how to maintain the right personal/professional balance on LinkedIn.\n\n\n\nAll registrants will receive the replay and reference materials\, but you must register!\n\n\n\nREGISTRATION LINK:  https://dwcs-marry-brands.eventbrite.com
X-ALT-DESC;FMTTYPE=text/html:<span style="font-size:14px"><strong><span style="color:#92D050">Wednesday\, May 25\, 2022\, at noon Eastern</span></strong><br />\n<strong>How to use LinkedIn to &#39\;marry&#39\; your Personal and Professional brands!</strong></span><br />\n&nbsp\;<br />\n<span style="color:black"><span style="font-family:arial\,sans-serif">LinkedIn is much\, much\, more than Facebook for work. It provides a host of other benefits. It is IMPORTANT that you share a bit of your personal life with your colleagues and connections. It helps to establish and enrich your &#39\;Know\, Like &amp\; Trust - ability&#39\; on the platform.</span></span><br />\n<span style="color:black"><span style="font-family:arial\,sans-serif">Join DWCS Coaches Dayve Gabbard and Kelli Winter as they walk you through how to maintain the right personal/professional balance on LinkedIn.</span></span><br />\n<br />\n<span style="color:black"><span style="font-family:arial\,sans-serif"><em>All registrants will receive the replay and reference materials\, but you must register!</em></span></span><br />\n<br />\n<strong><span style="color:black"><span style="font-family:arial\,sans-serif">REGISTRATION LINK:&nbsp\;</span></span></strong> <span style="color:black"><a href="https://dwcs-marry-brands.eventbrite.com/"><span style="font-family:arial\,sans-serif">https://dwcs-marry-brands.eventbrite.com</span></a></span>
LOCATION:ONLINE
UID:e.1455.35365
SEQUENCE:3
DTSTAMP:20260422T090922Z
URL:https://business.palmbeaches.org/events/details/how-to-use-linkedin-to-marry-your-personal-and-professional-brands-35365
END:VEVENT

END:VCALENDAR
