BEGIN:VCALENDAR
VERSION:2.0
PRODID:-//ChamberMaster//Event Calendar 2.0//EN
METHOD:PUBLISH
X-PUBLISHED-TTL:P3D
REFRESH-INTERVAL:P3D
CALSCALE:GREGORIAN
BEGIN:VEVENT
DTSTART:20241115T130000Z
DTEND:20241117T030000Z
X-MICROSOFT-CDO-ALLDAYEVENT:FALSE
SUMMARY:Jimmy Failla from FOX ACROSS AMERICA in the Paddock for 2 Shows at PBKC
DESCRIPTION:Jimmy Failla is a former New York City Cab Driver turned professional standup comic who is the host of Fox News Saturday Night.Jimmy appears regularly on the biggest Fox News Shows including Gutfeld\, Hannity\, Watters World\, Ingraham Angle and The Five. His nationally syndicated Talk Show\, Fox Across America\, is heard daily on 150 radio stations including WPSL in Port St. Lucie and WSTU in West Palm Beach. When he's not on tv or radio\, he's gambling his money on horses or gambling his life on the subway.\n\n \n\nFor additional ticket information\, please contact Patrick Sullivan at 561-683-2222 ext. 140 or pats@pbkennelclub.com\n\n\n\n\n\nThe age requirement for this show is 21 plus.\n\nIf you do not purchase the entire table\, you could be seated with other guests.\n\nParties of 3 or less will be seated with other guests at the same table.\n\nYou could be seated with other guests at the same table.\n\nTop purple row provides wheelchair accessible seats.\n\nNo seat exchanges.\n\nShow starts at 8pm.\n\nDoors Open 6:00 pm\n\nMust be seated by 7:45 p.m.\n\nGuests can order from our Comedy Show Menu from 6:00 p.m. to 7:30 p.m.\n\nFood service for the event will end at 7:30 p.m.\n\nCocktail service will continue throughout the show.\n\nEach row is separated by two to three stairs.\n\nOne item purchase required per person.\n\nValet Available for $5.00\n\nNo Refunds\n\nFor any questions\, please contact: pats@pbkennelclub.com
X-ALT-DESC;FMTTYPE=text/html:<div>\n<div>\n<p>Jimmy Failla is a former New York City Cab Driver turned professional standup comic who is the host of Fox News Saturday Night.Jimmy appears regularly on the biggest Fox News Shows including Gutfeld\, Hannity\, Watters World\, Ingraham Angle and The Five. His nationally syndicated Talk Show\, Fox Across America\, is heard daily on 150 radio stations including WPSL in Port St. Lucie and WSTU in West Palm Beach. When he&#39\;s not on tv or radio\, he&#39\;s gambling his money on horses or gambling his life on the subway.</p>\n\n<p>&nbsp\;</p>\n\n<p><strong>For additional ticket information\, please contact Patrick Sullivan at 561-683-2222 ext. 140 or pats@pbkennelclub.com</strong></p>\n</div>\n</div>\n\n<div>\n<div>\n<h3><strong>The age requirement for this show is 21 plus.</strong></h3>\n\n<h3><strong>If you do not purchase the entire table\, you could be seated with other guests.</strong></h3>\n\n<h3><strong>Parties of 3 or less will be seated with other guests at the same table.</strong></h3>\n\n<h3><strong>You could be seated with other guests at the same table.</strong></h3>\n\n<h3><strong>Top purple row provides wheelchair accessible seats.</strong></h3>\n\n<h3><strong>No seat exchanges.</strong></h3>\n\n<h3><strong>Show starts at 8pm.</strong></h3>\n\n<h3><strong>Doors Open 6:00 pm</strong></h3>\n\n<h3><strong>Must be seated by 7:45 p.m.</strong></h3>\n\n<h3><strong>Guests can order from our Comedy Show Menu from 6:00 p.m. to 7:30 p.m.</strong></h3>\n\n<h3><strong>Food service for the event will end at 7:30 p.m.</strong></h3>\n\n<h3><strong>Cocktail service will continue throughout the show.</strong></h3>\n\n<h3><strong>Each row is separated by two to three stairs.</strong></h3>\n\n<h3><strong>One item purchase required per person.</strong></h3>\n\n<h3><strong>Valet Available for $5.00</strong></h3>\n\n<h2>No Refunds</h2>\n\n<h3><strong>For any questions\, please contact: pats@pbkennelclub.com</strong></h3>\n</div>\n</div>\n
LOCATION:The Paddock Restaurant at PBKC
UID:e.1455.36448
SEQUENCE:3
DTSTAMP:20260420T124038Z
URL:https://business.palmbeaches.org/events/details/jimmy-failla-from-fox-across-america-in-the-paddock-for-2-shows-at-pbkc-36448
END:VEVENT

END:VCALENDAR
