BEGIN:VCALENDAR
VERSION:2.0
PRODID:-//ChamberMaster//Event Calendar 2.0//EN
METHOD:PUBLISH
X-PUBLISHED-TTL:P3D
REFRESH-INTERVAL:P3D
CALSCALE:GREGORIAN
BEGIN:VEVENT
DTSTART:20220507T160000Z
DTEND:20220508T000000Z
X-MICROSOFT-CDO-ALLDAYEVENT:FALSE
SUMMARY:KENTUCKY DERBY FEST AT PBKC
DESCRIPTION:IT'S OUR BIGGEST KENTCUKY DERBY FEST IN PBKC HISTORY!\n\nTHE BEST PARTY SOUTH OF CHURCHILL DOWNS!\n\nIt's PBKC's biggest Kentucky Derby party ever celebrating horse racing's biggest race of the year\, the 148th running of the Run for the Roses\, the Kentucky Derby. PBKC is Palm Beach County's only location to watch\, wager and win on this historic event. \n\nEnjoy the Kentucky Derby with thousands of your closet friends on two huge outdoor screens\, along with Trackside Food Trucks\, BBQ\, prize Giveaways\, Mint Julep Stations\, and live music from local bands!\n\nSCHEDULE OF EVENTS:\n\n9:30AM - PBKC Gates & Mutuel Windows Open\n\n12PM - Trackside BBQ & Bars Open\n\n12PM - Food Trucks Open\n\n12PM to 3PM   Music by Sippin' Fire\n\n12:30PM to 2:30PM - 95.9 True Oldies Handicapping Contest\n\n2:30PM to 5:30PM - Balloon Artist Karl Koppertop\n\n3PM to 3:45PM - Kentucky Derby Hat Contest with Virginia from the KVJ Show\n\n3PM to 5PM - Live Remote with 97.9 WRMF\n\n3:30PM to 6:30PM - Face Painting by Pinky The Clown\n\n4PM to 8PM   Music by Spred The Dub\n\n6:30PM - Live Broadcast from Churchill Downs\n\n* Advance wager on the Kentucky Derby Friday\, May 6 (Gates open at 9:30am)\n\n*Paddock Restaurant Kentucky Derby Tickets $40 (includes lunch) 561-683-2222\, x199 \n\n* Purchase official Kentucky Derby Souvenirs  \n\n*Kentucky Derby post time (approximate) - 6:57pm
X-ALT-DESC;FMTTYPE=text/html:<strong><span style="font-size:14.0pt">IT&rsquo\;S OUR BIGGEST KENTCUKY DERBY FEST IN PBKC HISTORY!</span></strong><br />\n<strong><span style="font-size:14.0pt">THE BEST PARTY SOUTH OF CHURCHILL DOWNS!</span></strong><br />\n<span style="font-family:calibri\,sans-serif">It&rsquo\;s PBKC&rsquo\;s biggest Kentucky Derby party ever celebrating horse racing&rsquo\;s biggest race of the year\, the 148<sup>th</sup> running of the Run for the Roses\, the Kentucky Derby. PBKC is Palm Beach County&rsquo\;s only location to watch\, wager and win on this historic event. </span><br />\n<span style="font-family:calibri\,sans-serif">Enjoy the Kentucky Derby with thousands of your closet friends on two huge outdoor screens\, along with Trackside Food Trucks\, BBQ\, prize Giveaways\, Mint Julep Stations\, and live music from local bands!</span><br />\n<strong><u><span style="font-family:calibri\,sans-serif"><span style="font-size:16.0pt">SCHEDULE OF EVENTS:</span></span></u></strong><br />\n<span style="font-family:calibri\,sans-serif"><span style="font-size:20.0pt">9:30AM - PBKC Gates &amp\; Mutuel Windows Open</span></span><br />\n<span style="font-family:calibri\,sans-serif"><span style="font-size:20.0pt">12PM - Trackside BBQ &amp\; Bars Open</span></span><br />\n<span style="font-family:calibri\,sans-serif"><span style="font-size:20.0pt">12PM - Food Trucks Open</span></span><br />\n<span style="font-family:calibri\,sans-serif"><span style="font-size:20.0pt">12PM to 3PM &ndash\; Music by Sippin&rsquo\; Fire</span></span><br />\n<span style="font-family:calibri\,sans-serif"><span style="font-size:20.0pt">12:30PM to 2:30PM - 95.9 True Oldies Handicapping Contest</span></span><br />\n<span style="font-family:calibri\,sans-serif"><span style="font-size:20.0pt">2:30PM to 5:30PM - Balloon Artist Karl Koppertop</span></span><br />\n<span style="font-family:calibri\,sans-serif"><span style="font-size:20.0pt">3PM to 3:45PM - Kentucky Derby Hat Contest with Virginia from the KVJ Show</span></span><br />\n<span style="font-family:calibri\,sans-serif"><span style="font-size:20.0pt">3PM to 5PM - Live Remote with 97.9 WRMF</span></span><br />\n<span style="font-family:calibri\,sans-serif"><span style="font-size:20.0pt">3:30PM to 6:30PM - Face Painting by Pinky The Clown</span></span><br />\n<span style="font-family:calibri\,sans-serif"><span style="font-size:20.0pt">4PM to 8PM &ndash\; Music by Spred The Dub</span></span><br />\n<span style="font-family:calibri\,sans-serif"><span style="font-size:20.0pt">6:30PM - Live Broadcast from Churchill Downs</span></span><br />\n<span style="font-family:calibri\,sans-serif">* Advance wager on the Kentucky Derby Friday\, May 6 (Gates open at 9:30am)</span><br />\n<span style="font-family:calibri\,sans-serif">*Paddock Restaurant Kentucky Derby Tickets $40 (includes lunch) 561-683-2222\, x199 </span><br />\n<span style="font-family:calibri\,sans-serif">* Purchase official Kentucky Derby Souvenirs&nbsp\; </span><br />\n<span style="font-family:calibri\,sans-serif">*Kentucky Derby post time (approximate) - 6:57pm</span>
LOCATION:PBKC\, 1111 N. Congress Ave.\, West Palm Beach\, Fl. 33409
UID:e.1455.35366
SEQUENCE:3
DTSTAMP:20260422T090852Z
URL:https://business.palmbeaches.org/events/details/kentucky-derby-fest-at-pbkc-05-07-2022-35366
END:VEVENT

END:VCALENDAR
