BEGIN:VCALENDAR
VERSION:2.0
PRODID:-//ChamberMaster//Event Calendar 2.0//EN
METHOD:PUBLISH
X-PUBLISHED-TTL:P3D
REFRESH-INTERVAL:P3D
CALSCALE:GREGORIAN
BEGIN:VEVENT
DTSTART:20260406T150000Z
DTEND:20260406T160000Z
X-MICROSOFT-CDO-ALLDAYEVENT:FALSE
SUMMARY:Sound Vision Technology Official Ribbon Cutting Ceremony
DESCRIPTION:Sound Vision Technology's official ribbon cutting ceremony. Join us for a demonstration of our luxury home automation products. Following the ribbon cutting there will be lunch items and soft drinks. Looking forward to seeing our fellow chamber members\, Ambassadors and the amazing Chamber staff.
X-ALT-DESC;FMTTYPE=text/html:Sound Vision Technology&rsquo\;s official ribbon cutting ceremony. Join us for a demonstration of our luxury home automation products. Following the ribbon cutting there will be lunch items and soft drinks. Looking forward to seeing our fellow chamber members\, Ambassadors and the amazing Chamber staff.&nbsp\;
LOCATION:601 N. Congress Ave\, Suite 205\, Delray Beach\, FL
UID:e.1455.46018
SEQUENCE:3
DTSTAMP:20260423T125911Z
URL:https://business.palmbeaches.org/events/details/sound-vision-technology-official-ribbon-cutting-ceremony-46018
END:VEVENT

END:VCALENDAR
