BEGIN:VCALENDAR
VERSION:2.0
PRODID:-//ChamberMaster//Event Calendar 2.0//EN
METHOD:PUBLISH
X-PUBLISHED-TTL:P3D
REFRESH-INTERVAL:P3D
CALSCALE:GREGORIAN
BEGIN:VEVENT
DTSTART:20250528T140000Z
DTEND:20250528T180000Z
X-MICROSOFT-CDO-ALLDAYEVENT:FALSE
SUMMARY:Stroke Risk Assessments
DESCRIPTION:Please join us in the Cypress Room\, just inside of the main entrance at St. Mary's Medical Center on May 28th for Stroke Risk Assessments. This includes: Blood Pressure\, Stroke Risk Assessment and the opportunity to speak with a nurse practitioner and other health professionals.
X-ALT-DESC;FMTTYPE=text/html:Please join us in the Cypress Room\, just inside of the main entrance at St. Mary&rsquo\;s Medical Center on May 28<sup>th</sup> for Stroke Risk Assessments. This includes: Blood Pressure\, Stroke Risk Assessment and the opportunity to speak with a nurse practitioner and other health professionals.
LOCATION:Cypress Room located just inside of the main entrance to St. Mary's Medical Center
UID:e.1455.41433
SEQUENCE:3
DTSTAMP:20260420T034834Z
URL:https://business.palmbeaches.org/events/details/stroke-risk-assessments-41433
END:VEVENT

END:VCALENDAR
