BEGIN:VCALENDAR
VERSION:2.0
PRODID:-//ChamberMaster//Event Calendar 2.0//EN
METHOD:PUBLISH
X-PUBLISHED-TTL:P3D
REFRESH-INTERVAL:P3D
CALSCALE:GREGORIAN
BEGIN:VEVENT
DTSTART:20241115T193000Z
DTEND:20241115T210000Z
X-MICROSOFT-CDO-ALLDAYEVENT:FALSE
SUMMARY:Taking Care Documentary: An Alzheimer's Family care giver event
DESCRIPTION:Taking Care Documentary Screening: Produced by award-winning filmmaker James Keach\, and executive produced by Lauren Miller Rogen and Seth Rogen\n\nWe invite you to experience Taking Care\, a powerful film directed and produced by award-winning filmmaker James Keach\, and executive produced by Lauren Miller Rogen and Seth Rogen. This compelling narrative masterfully balances the heartache and humor of life with Alzheimer's\, offering profound insights into the journey of those affected by this condition.\n\nFollowing the screening\, join us for an informative session designed to equip caregivers with valuable coping strategies. From practical advice to emotional support\, we offer a comprehensive range of resources to help you manage the complexities of caregiving.\n\nYou don't have to face this journey alone turn to our Certified Dementia Practitioner for expert guidance\, actionable strategies\, and compassionate support.\n\nSponsored by The Club at Boynton Beach and Caring People Home Care.\n\nPlease RSVP to Samantha at (561) 552-4883 as seating is limied.
X-ALT-DESC;FMTTYPE=text/html:<h1 style="text-align:-webkit-center">Taking Care Documentary Screening: Produced by award-winning filmmaker James Keach\, and executive produced by Lauren Miller Rogen and Seth Rogen</h1>\n\n<p>We invite you to experience Taking Care\, a powerful film directed and produced by award-winning filmmaker James Keach\, and executive produced by Lauren Miller Rogen and Seth Rogen. This compelling narrative masterfully balances the heartache and humor of life with Alzheimer&#39\;s\, offering profound insights into the journey of those affected by this condition.</p>\n\n<p>Following the screening\, join us for an informative session designed to equip caregivers with valuable coping strategies. From practical advice to emotional support\, we offer a comprehensive range of resources to help you manage the complexities of caregiving.</p>\n\n<p>You don&rsquo\;t have to face this journey alone&mdash\;turn to our Certified Dementia Practitioner for expert guidance\, actionable strategies\, and compassionate support.</p>\n\n<p>Sponsored by The Club at Boynton Beach and Caring People Home Care.</p>\n\n<p>Please RSVP to Samantha at (561) 552-4883 as seating is limied.</p>\n
LOCATION:The Club at Boynton Beach 623 South Federal Highway Boynton Beach\, FL 33435
UID:e.1455.40052
SEQUENCE:3
DTSTAMP:20260420T124129Z
URL:https://business.palmbeaches.org/events/details/taking-care-documentary-an-alzheimer-s-family-care-giver-event-40052
END:VEVENT

END:VCALENDAR
