BEGIN:VCALENDAR
VERSION:2.0
PRODID:-//ChamberMaster//Event Calendar 2.0//EN
METHOD:PUBLISH
X-PUBLISHED-TTL:P3D
REFRESH-INTERVAL:P3D
CALSCALE:GREGORIAN
BEGIN:VEVENT
DTSTART:20250327T213000Z
DTEND:20250327T233000Z
X-MICROSOFT-CDO-ALLDAYEVENT:FALSE
SUMMARY:Trustee Reception at The Berkeley Palm Beach - INVITATION ONLY
DESCRIPTION:Join us for an exclusive reception set against a breathtaking sunset backdrop. Enjoy a curated selection of champagne and gourmet hors d'oeuvres\, accompanied by the smooth melodies of live music. During the evening\, Developer Al Adelson will share insights on the vision and progress of THE BERKELEY\, providing an exclusive inside look at what's ahead for this exciting project.\n\n\n\nThe Sunset Soiree with Live Music is exclusive to the Chamber of Commerce of the Palm Beaches Trustees on Thursday\, March 27th\, 2025 from 5:30 p.m. to 7:30 p.m. Refreshments and passed hors d'oeuvres will be served.\n\n\n\nThere is a limit to the number of attendees that can be accommodated\, so kindly secure your attendance at your earliest convenience.
X-ALT-DESC;FMTTYPE=text/html:<p class="xmsonormal"><span style="font-size:18px\;">Join us for an exclusive reception set against a breathtaking sunset backdrop. Enjoy a curated selection of champagne and gourmet hors d&rsquo\;oeuvres\, accompanied by the smooth melodies of live music. During the evening\, Developer Al Adelson will share insights on the vision and progress of THE BERKELEY\, providing an exclusive inside look at what&rsquo\;s ahead for this exciting project.</span><u1:p></u1:p><o:p></o:p><br />\n<br />\n<span style="font-family:arial\,sans-serif\;"><span style="font-size:14.0pt\;">The&nbsp\;Sunset Soiree&nbsp\;with Live Music is exclusive&nbsp\;to the&nbsp\;Chamber of Commerce of the Palm Beaches Trustees&nbsp\;on Thursday\, March&nbsp\;27th\, 2025&nbsp\;from 5:30 p.m. to 7:30 p.m. Refreshments and passed hors d&rsquo\;oeuvres will be served.</span></span><br />\n<br />\n<span style="font-family:arial\,sans-serif\;"><span style="font-size:14.0pt\;">There is a limit to the number of attendees that can be accommodated\, so kindly secure your&nbsp\;attendance&nbsp\;at your earliest convenience. </span></span></p>\n
LOCATION:The Berkeley Palm Beach 500 S Australian Ave Suite 910 West Palm Beach\, FL 33401
UID:e.1455.40309
SEQUENCE:3
DTSTAMP:20260423T235723Z
URL:https://business.palmbeaches.org/events/details/trustee-reception-at-the-berkeley-palm-beach-invitation-only-40309
END:VEVENT

END:VCALENDAR
