BEGIN:VCALENDAR
VERSION:2.0
PRODID:-//ChamberMaster//Event Calendar 2.0//EN
METHOD:PUBLISH
X-PUBLISHED-TTL:P3D
REFRESH-INTERVAL:P3D
CALSCALE:GREGORIAN
BEGIN:VEVENT
DTSTART:20220512T160000Z
DTEND:20220512T170000Z
X-MICROSOFT-CDO-ALLDAYEVENT:FALSE
SUMMARY:What Keeps You Up At Night? Business Risks Presented by the Women In Business Committee
DESCRIPTION:Company: Northwestern Mutual \n\nSpeaker: Shekinah Holliday & Karen Holloway\n\nTopic: Business Risks \n\n\n\nShekinah Holliday will be speaking on\n\n	The four key areas you should be thinking about\n	Identifying and prioritizing your goals and concerns\n\nKaren Holloway will speak on\n\n\n	Planning for the unexpected\n	Evolving your plan to meet the needs of your changing business\n	The role of business advisors\n\n\n\n\n\nWomen in Business\n\nThe Women in Business Committee meets the second Thursday of the month in the Chamber Board Room at 12:00 pm. Visit the Women in Business webpage here.\n\n\n\nFor more information on Sponsorship and speaking opportunities to the Women in Business Committee\, contact Membership Services at (561) 833-3894.\n\n\n\n*Photos and/or videos will be taken at this event for publications and promotions.\n\n\n\n \n\n***Sponsorship Opportunities available for all Chamber events. To find out more information contact Kirby Davis at kdavis@palmbeaches.org or call her at 561-833-3894
X-ALT-DESC;FMTTYPE=text/html:<span style="font-size:14px\;"><span style="font-size:20px\;"><strong>Company: Northwestern Mutual&nbsp\;<br />\nSpeaker: Shekinah Holliday &amp\; Karen Holloway<br />\nTopic: Business Risks&nbsp\;</strong></span></span><br />\n<br />\n<span style="font-size:16px\;"><u><strong>Shekinah Holliday will be speaking on</strong></u></span>\n<ul>\n	<li><span style="font-size:14px\;">The four key areas you should be thinking about</span></li>\n	<li><span style="font-size:14px\;">Identifying and prioritizing your goals and concerns</span></li>\n</ul>\n<span style="font-size:16px\;"><u><strong>Karen Holloway will speak on</strong></u></span>\n\n<ul>\n	<li><span style="font-size:14px\;">Planning for the unexpected</span></li>\n	<li><span style="font-size:14px\;">Evolving your plan to meet the needs of your changing business</span></li>\n	<li><span style="font-size:14px\;">The role of business advisors</span></li>\n</ul>\n<br />\n<br />\n<span style="font-size:14px\;"><span style="color: rgb(51\, 51\, 51)\;"><span style="color: rgb(105\, 105\, 105)\;"><strong>Women in Business</strong><br />\nThe Women in Business Committee meets the second Thursday of the month in the Chamber Board Room at 12:00 pm. Visit the Women in Business webpage</span>&nbsp\;<a href="http://www.palmbeaches.org/pages/women-in-business" style="color: rgb(7\, 130\, 193)\;">here</a>.</span><br style="color: rgb(51\, 51\, 51)\; font-family: sans-serif\, Arial\, Verdana\, &quot\;Trebuchet MS&quot\;\; font-size: 13px\;" />\n<br style="color: rgb(51\, 51\, 51)\; font-family: sans-serif\, Arial\, Verdana\, &quot\;Trebuchet MS&quot\;\; font-size: 13px\;" />\n<span style="color: rgb(105\, 105\, 105)\;">For more information on Sponsorship and speaking opportunities to the Women in Business Committee\, contact Membership Services at (561) 833-3894</span><span style="color: rgb(51\, 51\, 51)\;">.</span><br />\n<br />\n*Photos and/or videos will be taken at this event for publications and promotions.</span><br />\n<br />\n<span style="font-size:12px\;">&nbsp\;<br />\n<strong><span style="color:red\;"><span style="font-family:arial\,sans-serif\;">***Sponsorship Opportunities available for all Chamber events. To find out more information contact Kirby Davis at <a href="mailto:kdavis@palmbeaches.org"><span style="font-weight:normal\;">kdavis@palmbeaches.org</span></a> or call her at 561-833-3894</span></span></strong></span><br />\n&nbsp\;
LOCATION:Chamber Boardroom
UID:e.1455.35349
SEQUENCE:3
DTSTAMP:20260422T091233Z
URL:https://business.palmbeaches.org/events/details/what-keeps-you-up-at-night-business-risks-presented-by-the-women-in-business-committee-35349
END:VEVENT

END:VCALENDAR
