BEGIN:VCALENDAR
VERSION:2.0
PRODID:-//ChamberMaster//Event Calendar 2.0//EN
METHOD:PUBLISH
X-PUBLISHED-TTL:P3D
REFRESH-INTERVAL:P3D
CALSCALE:GREGORIAN
BEGIN:VEVENT
DTSTART:20240501T213000Z
DTEND:20240501T233000Z
X-MICROSOFT-CDO-ALLDAYEVENT:FALSE
SUMMARY:YPOP Happy Hour: City Cellar
DESCRIPTION:Join our Young Professionals Group\, as we enjoy happy hour and networking at City Cellar Wine Bar & Grill \n\n\n\nMake sure to bring plenty of business cards to exchange with like minded individuals! \n\n\n\nAbout City Cellar Wine Bar & Grill: \n\nCity Cellar Wine Bar & Grill offers American favorites made with seasonal and local ingredients. They offer 600+ bottles of wine and 60 wines by the glass plus top-notch cocktails like the One Fire Beach made with ghost pepper tequila\, fresh-pressed watermelon juice\, and lime. The diverse menu features dry-aged steaks and chops\, fresh grilled fish\, hearth-baked pizzas\, and fresh pasta all in an urban hip restaurant atmosphere. Their house-cured meats\, cheeseboards\, pasta\, artisanal bread\, and desserts are all made in-house daily\, which says it a lot!
X-ALT-DESC;FMTTYPE=text/html:<p style="background:white"><span style="font-family:verdana\;"><span style="color: black\;"><span style="font-size:18px\;">Join our Young Professionals Group\, as we enjoy happy hour and networking at <strong>City Cellar Wine Bar &amp\; Grill&nbsp\;</strong><br />\n<br />\nMake sure to bring plenty of business cards to exchange with like minded individuals!&nbsp\;</span><br />\n<br />\n<u>About City Cellar Wine Bar &amp\; Grill:&nbsp\;</u><br />\nCity&nbsp\;Cellar&nbsp\;Wine Bar &amp\; Grill offers American favorites made with seasonal and local ingredients. They offer 600+ bottles of wine and 60 wines by the glass plus top-notch cocktails like the One Fire Beach made with ghost pepper tequila\, fresh-pressed watermelon juice\, and lime. The diverse menu features dry-aged steaks and chops\, fresh grilled fish\, hearth-baked pizzas\, and fresh pasta all in an urban hip restaurant atmosphere. Their house-cured meats\, cheeseboards\, pasta\, artisanal bread\, and desserts are all made in-house daily\, which says it a lot!&nbsp\;</span></span><o:p></o:p></p>\n
LOCATION:City Cellar Wine Bar & Grill - Outside Bar 700 S. Rosemary Ave. West Palm Beach\, FL.\, 33401
UID:e.1455.36455
SEQUENCE:3
DTSTAMP:20260425T194500Z
URL:https://business.palmbeaches.org/events/details/ypop-happy-hour-city-cellar-36455
END:VEVENT

END:VCALENDAR
